| Back to Build/check report for BioC 3.10 experimental data | 
This page was generated on 2020-04-14 17:46:17 -0400 (Tue, 14 Apr 2020).
| Package 178/384 | Hostname | OS / Arch | INSTALL | BUILD | CHECK | ||||||
| hmyriB36 1.22.0 Vincent Carey 
 | malbec1 | Linux (Ubuntu 18.04.4 LTS) / x86_64 | OK | [ OK ] | OK |  | 
| Package: hmyriB36 | 
| Version: 1.22.0 | 
| Command: /home/biocbuild/bbs-3.10-bioc/R/bin/R CMD build --keep-empty-dirs --no-resave-data hmyriB36 | 
| StartedAt: 2020-04-14 11:30:53 -0400 (Tue, 14 Apr 2020) | 
| EndedAt: 2020-04-14 11:31:01 -0400 (Tue, 14 Apr 2020) | 
| EllapsedTime: 8.5 seconds | 
| RetCode: 0 | 
| Status: OK | 
| PackageFile: hmyriB36_1.22.0.tar.gz | 
| PackageFileSize: 79.7 MiB | 
############################################################################## ############################################################################## ### ### Running command: ### ### /home/biocbuild/bbs-3.10-bioc/R/bin/R CMD build --keep-empty-dirs --no-resave-data hmyriB36 ### ############################################################################## ############################################################################## * checking for file ‘hmyriB36/DESCRIPTION’ ... OK * preparing ‘hmyriB36’: * checking DESCRIPTION meta-information ... OK * checking for LF line-endings in source and make files and shell scripts * checking for empty or unneeded directories * looking to see if a ‘data/datalist’ file should be added * building ‘hmyriB36_1.22.0.tar.gz’