| Back to Build/check report for BioC 3.10 experimental data | 
This page was generated on 2020-04-14 17:46:17 -0400 (Tue, 14 Apr 2020).
| Package 158/384 | Hostname | OS / Arch | INSTALL | BUILD | CHECK | ||||||
| hapmapsnp6 1.28.0 Benilton Carvalho 
 | malbec1 | Linux (Ubuntu 18.04.4 LTS) / x86_64 | OK | [ OK ] | OK |  | 
| Package: hapmapsnp6 | 
| Version: 1.28.0 | 
| Command: /home/biocbuild/bbs-3.10-bioc/R/bin/R CMD build --keep-empty-dirs --no-resave-data hapmapsnp6 | 
| StartedAt: 2020-04-14 11:29:11 -0400 (Tue, 14 Apr 2020) | 
| EndedAt: 2020-04-14 11:32:55 -0400 (Tue, 14 Apr 2020) | 
| EllapsedTime: 224.0 seconds | 
| RetCode: 0 | 
| Status: OK | 
| PackageFile: hapmapsnp6_1.28.0.tar.gz | 
| PackageFileSize: 263.2 MiB | 
############################################################################## ############################################################################## ### ### Running command: ### ### /home/biocbuild/bbs-3.10-bioc/R/bin/R CMD build --keep-empty-dirs --no-resave-data hapmapsnp6 ### ############################################################################## ############################################################################## * checking for file ‘hapmapsnp6/DESCRIPTION’ ... OK * preparing ‘hapmapsnp6’: * checking DESCRIPTION meta-information ... OK * checking for LF line-endings in source and make files and shell scripts * checking for empty or unneeded directories * looking to see if a ‘data/datalist’ file should be added * building ‘hapmapsnp6_1.28.0.tar.gz’