| Back to Build/check report for BioC 3.10 experimental data | 
This page was generated on 2020-04-14 17:46:18 -0400 (Tue, 14 Apr 2020).
| Package 131/384 | Hostname | OS / Arch | INSTALL | BUILD | CHECK | ||||||
| frmaExampleData 1.22.0 Matthew N. McCall 
 | malbec1 | Linux (Ubuntu 18.04.4 LTS) / x86_64 | OK | [ OK ] | WARNINGS |  | 
| Package: frmaExampleData | 
| Version: 1.22.0 | 
| Command: /home/biocbuild/bbs-3.10-bioc/R/bin/R CMD build --keep-empty-dirs --no-resave-data frmaExampleData | 
| StartedAt: 2020-04-14 11:31:30 -0400 (Tue, 14 Apr 2020) | 
| EndedAt: 2020-04-14 11:31:35 -0400 (Tue, 14 Apr 2020) | 
| EllapsedTime: 4.5 seconds | 
| RetCode: 0 | 
| Status: OK | 
| PackageFile: frmaExampleData_1.22.0.tar.gz | 
| PackageFileSize: 15.88 MiB | 
############################################################################## ############################################################################## ### ### Running command: ### ### /home/biocbuild/bbs-3.10-bioc/R/bin/R CMD build --keep-empty-dirs --no-resave-data frmaExampleData ### ############################################################################## ############################################################################## * checking for file ‘frmaExampleData/DESCRIPTION’ ... OK * preparing ‘frmaExampleData’: * checking DESCRIPTION meta-information ... OK * checking for LF line-endings in source and make files and shell scripts * checking for empty or unneeded directories * looking to see if a ‘data/datalist’ file should be added * building ‘frmaExampleData_1.22.0.tar.gz’