| Back to Build/check report for BioC 3.10 experimental data | 
This page was generated on 2020-04-14 17:46:19 -0400 (Tue, 14 Apr 2020).
| Package 116/384 | Hostname | OS / Arch | INSTALL | BUILD | CHECK | ||||||
| ffpeExampleData 1.24.0 Levi Waldron 
 | malbec1 | Linux (Ubuntu 18.04.4 LTS) / x86_64 | [ OK ] | OK | OK |  | 
| Package: ffpeExampleData | 
| Version: 1.24.0 | 
| Command: /home/biocbuild/bbs-3.10-bioc/R/bin/R CMD INSTALL ffpeExampleData | 
| StartedAt: 2020-04-14 11:23:25 -0400 (Tue, 14 Apr 2020) | 
| EndedAt: 2020-04-14 11:23:46 -0400 (Tue, 14 Apr 2020) | 
| EllapsedTime: 20.7 seconds | 
| RetCode: 0 | 
| Status: OK | 
############################################################################## ############################################################################## ### ### Running command: ### ### /home/biocbuild/bbs-3.10-bioc/R/bin/R CMD INSTALL ffpeExampleData ### ############################################################################## ############################################################################## * installing to library ‘/home/biocbuild/bbs-3.10-bioc/R/library’ * installing *source* package ‘ffpeExampleData’ ... ** using staged installation ** data ** help *** installing help indices ** building package indices ** testing if installed package can be loaded from temporary location No methods found in package ‘RSQLite’ for request: ‘dbListFields’ when loading ‘lumi’ ** testing if installed package can be loaded from final location No methods found in package ‘RSQLite’ for request: ‘dbListFields’ when loading ‘lumi’ ** testing if installed package keeps a record of temporary installation path * DONE (ffpeExampleData)