| Back to Build/check report for BioC 3.10 experimental data | 
This page was generated on 2020-04-14 17:46:14 -0400 (Tue, 14 Apr 2020).
| Package 106/384 | Hostname | OS / Arch | INSTALL | BUILD | CHECK | ||||||
| ecoliLeucine 1.26.0 Laurent Gautier 
 | malbec1 | Linux (Ubuntu 18.04.4 LTS) / x86_64 | [ OK ] | OK | WARNINGS |  | 
| Package: ecoliLeucine | 
| Version: 1.26.0 | 
| Command: /home/biocbuild/bbs-3.10-bioc/R/bin/R CMD INSTALL ecoliLeucine | 
| StartedAt: 2020-04-14 11:14:05 -0400 (Tue, 14 Apr 2020) | 
| EndedAt: 2020-04-14 11:14:12 -0400 (Tue, 14 Apr 2020) | 
| EllapsedTime: 6.8 seconds | 
| RetCode: 0 | 
| Status: OK | 
############################################################################## ############################################################################## ### ### Running command: ### ### /home/biocbuild/bbs-3.10-bioc/R/bin/R CMD INSTALL ecoliLeucine ### ############################################################################## ############################################################################## * installing to library ‘/home/biocbuild/bbs-3.10-bioc/R/library’ * installing *source* package ‘ecoliLeucine’ ... ** using staged installation ** data ** help *** installing help indices ** building package indices ** testing if installed package can be loaded from temporary location Warning: replacing previous import ‘AnnotationDbi::tail’ by ‘utils::tail’ when loading ‘ecolicdf’ Warning: replacing previous import ‘AnnotationDbi::head’ by ‘utils::head’ when loading ‘ecolicdf’ ** testing if installed package can be loaded from final location Warning: replacing previous import ‘AnnotationDbi::tail’ by ‘utils::tail’ when loading ‘ecolicdf’ Warning: replacing previous import ‘AnnotationDbi::head’ by ‘utils::head’ when loading ‘ecolicdf’ ** testing if installed package keeps a record of temporary installation path * DONE (ecoliLeucine)