| Back to Build/check report for BioC 3.10 experimental data | 
This page was generated on 2020-04-14 17:46:31 -0400 (Tue, 14 Apr 2020).
| Package 325/384 | Hostname | OS / Arch | INSTALL | BUILD | CHECK | ||||||
| SBGNview.data 1.0.0 Xiaoxi Dong 
 | malbec1 | Linux (Ubuntu 18.04.4 LTS) / x86_64 | OK | [ OK ] | OK |  | 
| Package: SBGNview.data | 
| Version: 1.0.0 | 
| Command: /home/biocbuild/bbs-3.10-bioc/R/bin/R CMD build --keep-empty-dirs --no-resave-data SBGNview.data | 
| StartedAt: 2020-04-14 12:31:15 -0400 (Tue, 14 Apr 2020) | 
| EndedAt: 2020-04-14 12:32:16 -0400 (Tue, 14 Apr 2020) | 
| EllapsedTime: 60.5 seconds | 
| RetCode: 0 | 
| Status: OK | 
| PackageFile: SBGNview.data_1.0.0.tar.gz | 
| PackageFileSize: 61.09 MiB | 
############################################################################## ############################################################################## ### ### Running command: ### ### /home/biocbuild/bbs-3.10-bioc/R/bin/R CMD build --keep-empty-dirs --no-resave-data SBGNview.data ### ############################################################################## ############################################################################## * checking for file ‘SBGNview.data/DESCRIPTION’ ... OK * preparing ‘SBGNview.data’: * checking DESCRIPTION meta-information ... OK * installing the package to build vignettes * creating vignettes ... OK * checking for LF line-endings in source and make files and shell scripts * checking for empty or unneeded directories * looking to see if a ‘data/datalist’ file should be added * building ‘SBGNview.data_1.0.0.tar.gz’