| Back to Build/check report for BioC 3.10 experimental data | 
This page was generated on 2020-04-14 17:46:30 -0400 (Tue, 14 Apr 2020).
| Package 127/384 | Hostname | OS / Arch | INSTALL | BUILD | CHECK | ||||||
| FlowSorted.CordBloodCombined.450k 1.2.1 Lucas A. Salas 
 | malbec1 | Linux (Ubuntu 18.04.4 LTS) / x86_64 | OK | [ OK ] | OK |  | 
| Package: FlowSorted.CordBloodCombined.450k | 
| Version: 1.2.1 | 
| Command: /home/biocbuild/bbs-3.10-bioc/R/bin/R CMD build --keep-empty-dirs --no-resave-data FlowSorted.CordBloodCombined.450k | 
| StartedAt: 2020-04-14 12:27:42 -0400 (Tue, 14 Apr 2020) | 
| EndedAt: 2020-04-14 12:30:53 -0400 (Tue, 14 Apr 2020) | 
| EllapsedTime: 191.8 seconds | 
| RetCode: 0 | 
| Status: OK | 
| PackageFile: FlowSorted.CordBloodCombined.450k_1.2.1.tar.gz | 
| PackageFileSize: 56.38 KiB | 
############################################################################## ############################################################################## ### ### Running command: ### ### /home/biocbuild/bbs-3.10-bioc/R/bin/R CMD build --keep-empty-dirs --no-resave-data FlowSorted.CordBloodCombined.450k ### ############################################################################## ############################################################################## * checking for file ‘FlowSorted.CordBloodCombined.450k/DESCRIPTION’ ... OK * preparing ‘FlowSorted.CordBloodCombined.450k’: * checking DESCRIPTION meta-information ... OK * installing the package to build vignettes * creating vignettes ... OK * checking for LF line-endings in source and make files and shell scripts * checking for empty or unneeded directories WARNING: directory ‘FlowSorted.CordBloodCombined.450k/FlowSorted.CordBloodCombined.450k’ is empty * looking to see if a ‘data/datalist’ file should be added * building ‘FlowSorted.CordBloodCombined.450k_1.2.1.tar.gz’