| Back to Build/check report for BioC 3.10 experimental data | 
This page was generated on 2020-04-14 17:46:21 -0400 (Tue, 14 Apr 2020).
| Package 124/384 | Hostname | OS / Arch | INSTALL | BUILD | CHECK | ||||||
| FlowSorted.Blood.450k 1.24.0 Andrew E Jaffe 
 | malbec1 | Linux (Ubuntu 18.04.4 LTS) / x86_64 | [ OK ] | OK | OK |  | 
| Package: FlowSorted.Blood.450k | 
| Version: 1.24.0 | 
| Command: /home/biocbuild/bbs-3.10-bioc/R/bin/R CMD INSTALL FlowSorted.Blood.450k | 
| StartedAt: 2020-04-14 11:20:46 -0400 (Tue, 14 Apr 2020) | 
| EndedAt: 2020-04-14 11:23:46 -0400 (Tue, 14 Apr 2020) | 
| EllapsedTime: 180.5 seconds | 
| RetCode: 0 | 
| Status: OK | 
############################################################################## ############################################################################## ### ### Running command: ### ### /home/biocbuild/bbs-3.10-bioc/R/bin/R CMD INSTALL FlowSorted.Blood.450k ### ############################################################################## ############################################################################## * installing to library ‘/home/biocbuild/bbs-3.10-bioc/R/library’ * installing *source* package ‘FlowSorted.Blood.450k’ ... ** using staged installation ** data *** moving datasets to lazyload DB ** inst ** help *** installing help indices ** building package indices ** installing vignettes ** testing if installed package can be loaded from temporary location ** testing if installed package can be loaded from final location ** testing if installed package keeps a record of temporary installation path * DONE (FlowSorted.Blood.450k)