| Back to Build/check report for BioC 3.10 experimental data | 
This page was generated on 2020-04-14 17:46:29 -0400 (Tue, 14 Apr 2020).
| Package 102/384 | Hostname | OS / Arch | INSTALL | BUILD | CHECK | ||||||
| DuoClustering2018 1.4.0 Angelo Duò 
 | malbec1 | Linux (Ubuntu 18.04.4 LTS) / x86_64 | OK | [ OK ] | OK |  | 
| Package: DuoClustering2018 | 
| Version: 1.4.0 | 
| Command: /home/biocbuild/bbs-3.10-bioc/R/bin/R CMD build --keep-empty-dirs --no-resave-data DuoClustering2018 | 
| StartedAt: 2020-04-14 12:23:52 -0400 (Tue, 14 Apr 2020) | 
| EndedAt: 2020-04-14 12:25:47 -0400 (Tue, 14 Apr 2020) | 
| EllapsedTime: 115.7 seconds | 
| RetCode: 0 | 
| Status: OK | 
| PackageFile: DuoClustering2018_1.4.0.tar.gz | 
| PackageFileSize: 1.939 MiB | 
############################################################################## ############################################################################## ### ### Running command: ### ### /home/biocbuild/bbs-3.10-bioc/R/bin/R CMD build --keep-empty-dirs --no-resave-data DuoClustering2018 ### ############################################################################## ############################################################################## * checking for file ‘DuoClustering2018/DESCRIPTION’ ... OK * preparing ‘DuoClustering2018’: * checking DESCRIPTION meta-information ... OK * installing the package to build vignettes * creating vignettes ... OK * checking for LF line-endings in source and make files and shell scripts * checking for empty or unneeded directories * building ‘DuoClustering2018_1.4.0.tar.gz’