| Back to Multiple platform build/check report for BioC 3.10 |
|
This page was generated on 2020-04-15 12:18:06 -0400 (Wed, 15 Apr 2020).
| Package 1788/1823 | Hostname | OS / Arch | INSTALL | BUILD | CHECK | BUILD BIN | ||||||
| vbmp 1.54.0 Nicola Lama
| malbec1 | Linux (Ubuntu 18.04.4 LTS) / x86_64 | OK | OK | OK | |||||||
| tokay1 | Windows Server 2012 R2 Standard / x64 | [ OK ] | OK | OK | OK | |||||||
| merida1 | OS X 10.11.6 El Capitan / x86_64 | OK | OK | OK | OK |
| Package: vbmp |
| Version: 1.54.0 |
| Command: C:\cygwin\bin\curl.exe -O https://malbec1.bioconductor.org/BBS/3.10/bioc/src/contrib/vbmp_1.54.0.tar.gz && rm -rf vbmp.buildbin-libdir && mkdir vbmp.buildbin-libdir && C:\Users\biocbuild\bbs-3.10-bioc\R\bin\R.exe CMD INSTALL --merge-multiarch --build --library=vbmp.buildbin-libdir vbmp_1.54.0.tar.gz && C:\Users\biocbuild\bbs-3.10-bioc\R\bin\R.exe CMD INSTALL vbmp_1.54.0.zip && rm vbmp_1.54.0.tar.gz vbmp_1.54.0.zip |
| StartedAt: 2020-04-14 18:29:08 -0400 (Tue, 14 Apr 2020) |
| EndedAt: 2020-04-14 18:29:30 -0400 (Tue, 14 Apr 2020) |
| EllapsedTime: 22.4 seconds |
| RetCode: 0 |
| Status: OK |
##############################################################################
##############################################################################
###
### Running command:
###
### C:\cygwin\bin\curl.exe -O https://malbec1.bioconductor.org/BBS/3.10/bioc/src/contrib/vbmp_1.54.0.tar.gz && rm -rf vbmp.buildbin-libdir && mkdir vbmp.buildbin-libdir && C:\Users\biocbuild\bbs-3.10-bioc\R\bin\R.exe CMD INSTALL --merge-multiarch --build --library=vbmp.buildbin-libdir vbmp_1.54.0.tar.gz && C:\Users\biocbuild\bbs-3.10-bioc\R\bin\R.exe CMD INSTALL vbmp_1.54.0.zip && rm vbmp_1.54.0.tar.gz vbmp_1.54.0.zip
###
##############################################################################
##############################################################################
% Total % Received % Xferd Average Speed Time Time Time Current
Dload Upload Total Spent Left Speed
0 0 0 0 0 0 0 0 --:--:-- --:--:-- --:--:-- 0
40 1546k 40 624k 0 0 1707k 0 --:--:-- --:--:-- --:--:-- 1762k
100 1546k 100 1546k 0 0 3563k 0 --:--:-- --:--:-- --:--:-- 3655k
install for i386
* installing *source* package 'vbmp' ...
** using staged installation
** R
** data
** byte-compile and prepare package for lazy loading
** help
*** installing help indices
converting help for package 'vbmp'
finding HTML links ... done
BRCA12 html
covParams html
lowerBound html
plotDiagnostics html
predClass html
predError html
predLik html
predictCPP html
vbmp html
** building package indices
** installing vignettes
** testing if installed package can be loaded from temporary location
** testing if installed package can be loaded from final location
** testing if installed package keeps a record of temporary installation path
install for x64
* installing *source* package 'vbmp' ...
** testing if installed package can be loaded
* MD5 sums
packaged installation of 'vbmp' as vbmp_1.54.0.zip
* DONE (vbmp)
* installing to library 'C:/Users/biocbuild/bbs-3.10-bioc/R/library'
package 'vbmp' successfully unpacked and MD5 sums checked