| Back to Multiple platform build/check report for BioC 3.10 | 
  | 
This page was generated on 2020-04-15 12:22:01 -0400 (Wed, 15 Apr 2020).
| Package 1756/1823 | Hostname | OS / Arch | INSTALL | BUILD | CHECK | BUILD BIN | ||||||
| trio 3.24.3 Holger Schwender 
  | malbec1 | Linux (Ubuntu 18.04.4 LTS) / x86_64 | OK | OK | OK | |||||||
| tokay1 | Windows Server 2012 R2 Standard / x64 | OK | OK | OK | [ OK ] | |||||||
| merida1 | OS X 10.11.6 El Capitan / x86_64 | OK | OK | OK | OK | 
| Package: trio | 
| Version: 3.24.3 | 
| Command: rm -rf trio.buildbin-libdir && mkdir trio.buildbin-libdir && C:\Users\biocbuild\bbs-3.10-bioc\R\bin\R.exe CMD INSTALL --merge-multiarch --build --library=trio.buildbin-libdir trio_3.24.3.tar.gz | 
| StartedAt: 2020-04-15 09:51:08 -0400 (Wed, 15 Apr 2020) | 
| EndedAt: 2020-04-15 09:52:04 -0400 (Wed, 15 Apr 2020) | 
| EllapsedTime: 56.0 seconds | 
| RetCode: 0 | 
| Status: OK | 
| PackageFile: trio_3.24.3.zip | 
| PackageFileSize: 1.637 MiB | 
##############################################################################
##############################################################################
###
### Running command:
###
###   rm -rf trio.buildbin-libdir && mkdir trio.buildbin-libdir && C:\Users\biocbuild\bbs-3.10-bioc\R\bin\R.exe CMD INSTALL --merge-multiarch --build --library=trio.buildbin-libdir trio_3.24.3.tar.gz
###
##############################################################################
##############################################################################
install for i386
* installing *source* package 'trio' ...
** using staged installation
** R
** data
** inst
** byte-compile and prepare package for lazy loading
** help
*** installing help indices
  converting help for package 'trio'
    finding HTML links ... done
    allelicTDT                              html  
    colEMlrt                                html  
    colGxE                                  html  
    colGxGPerms                             html  
    colPOlrt                                html  
    colTDTmaxTest                           html  
    colTDTsam                               html  
    findLDblocks                            html  
    getLD                                   html  
    getMatPseudo                            html  
    lrControl                               html  
    ped2geno                                html  
    plot.LDblocks                           html  
    plot.getLD                              html  
    plot.trioLR                             html  
    poly4root                               html  
    print.colGxE                            html  
    print.trioFS                            html  
    print.trioLR                            html  
    probTDT                                 html  
    read.pedfile                            html  
    removeSNPs                              html  
    scoreTDT                                html  
    tdt                                     html  
    tdtGxG                                  html  
    trio.check                              html  
    trio.data                               html  
    trio.permTest                           html  
    trio.power                              html  
    trio.prepare                            html  
    trio.sim                                html  
    trioFS                                  html  
    trioLR                                  html  
    vcf2geno                                html  
** building package indices
** installing vignettes
** testing if installed package can be loaded from temporary location
** testing if installed package can be loaded from final location
** testing if installed package keeps a record of temporary installation path
install for x64
* installing *source* package 'trio' ...
** testing if installed package can be loaded
* MD5 sums
packaged installation of 'trio' as trio_3.24.3.zip
* DONE (trio)