| Back to Multiple platform build/check report for BioC 3.10 |
|
This page was generated on 2020-04-15 12:33:38 -0400 (Wed, 15 Apr 2020).
| Package 1743/1823 | Hostname | OS / Arch | INSTALL | BUILD | CHECK | BUILD BIN | ||||||
| tradeSeq 1.0.1 Hector Roux de Bezieux
| malbec1 | Linux (Ubuntu 18.04.4 LTS) / x86_64 | OK | OK | OK | |||||||
| tokay1 | Windows Server 2012 R2 Standard / x64 | OK | OK | OK | [ OK ] | |||||||
| merida1 | OS X 10.11.6 El Capitan / x86_64 | OK | OK | OK | OK |
| Package: tradeSeq |
| Version: 1.0.1 |
| Command: rm -rf tradeSeq.buildbin-libdir && mkdir tradeSeq.buildbin-libdir && C:\Users\biocbuild\bbs-3.10-bioc\R\bin\R.exe CMD INSTALL --merge-multiarch --build --library=tradeSeq.buildbin-libdir tradeSeq_1.0.1.tar.gz |
| StartedAt: 2020-04-15 09:50:22 -0400 (Wed, 15 Apr 2020) |
| EndedAt: 2020-04-15 09:51:15 -0400 (Wed, 15 Apr 2020) |
| EllapsedTime: 53.5 seconds |
| RetCode: 0 |
| Status: OK |
| PackageFile: tradeSeq_1.0.1.zip |
| PackageFileSize: 2.055 MiB |
##############################################################################
##############################################################################
###
### Running command:
###
### rm -rf tradeSeq.buildbin-libdir && mkdir tradeSeq.buildbin-libdir && C:\Users\biocbuild\bbs-3.10-bioc\R\bin\R.exe CMD INSTALL --merge-multiarch --build --library=tradeSeq.buildbin-libdir tradeSeq_1.0.1.tar.gz
###
##############################################################################
##############################################################################
install for i386
* installing *source* package 'tradeSeq' ...
** using staged installation
** R
** data
** inst
** byte-compile and prepare package for lazy loading
** help
*** installing help indices
converting help for package 'tradeSeq'
finding HTML links ... done
associationTest html
celltype html
clusterExpressionPatterns html
finding level-2 HTML links ... done
countMatrix html
crv html
diffEndTest html
earlyDETest html
evaluateK html
fitGAM html
gamList html
getSmootherPvalues html
getSmootherTestStats html
patternTest html
plotGeneCount html
plotSmoothers html
sds html
startVsEndTest html
** building package indices
** installing vignettes
** testing if installed package can be loaded from temporary location
** testing if installed package can be loaded from final location
** testing if installed package keeps a record of temporary installation path
install for x64
* installing *source* package 'tradeSeq' ...
** testing if installed package can be loaded
* MD5 sums
packaged installation of 'tradeSeq' as tradeSeq_1.0.1.zip
* DONE (tradeSeq)