| Back to Multiple platform build/check report for BioC 3.10 |
|
This page was generated on 2020-04-15 12:20:42 -0400 (Wed, 15 Apr 2020).
| Package 1670/1823 | Hostname | OS / Arch | INSTALL | BUILD | CHECK | BUILD BIN | ||||||
| staRank 1.28.0 Juliane Siebourg
| malbec1 | Linux (Ubuntu 18.04.4 LTS) / x86_64 | OK | OK | OK | |||||||
| tokay1 | Windows Server 2012 R2 Standard / x64 | OK | OK | OK | [ OK ] | |||||||
| merida1 | OS X 10.11.6 El Capitan / x86_64 | OK | OK | OK | OK |
| Package: staRank |
| Version: 1.28.0 |
| Command: rm -rf staRank.buildbin-libdir && mkdir staRank.buildbin-libdir && C:\Users\biocbuild\bbs-3.10-bioc\R\bin\R.exe CMD INSTALL --merge-multiarch --build --library=staRank.buildbin-libdir staRank_1.28.0.tar.gz |
| StartedAt: 2020-04-15 09:46:08 -0400 (Wed, 15 Apr 2020) |
| EndedAt: 2020-04-15 09:46:52 -0400 (Wed, 15 Apr 2020) |
| EllapsedTime: 44.8 seconds |
| RetCode: 0 |
| Status: OK |
| PackageFile: staRank_1.28.0.zip |
| PackageFileSize: 746.5 KiB |
##############################################################################
##############################################################################
###
### Running command:
###
### rm -rf staRank.buildbin-libdir && mkdir staRank.buildbin-libdir && C:\Users\biocbuild\bbs-3.10-bioc\R\bin\R.exe CMD INSTALL --merge-multiarch --build --library=staRank.buildbin-libdir staRank_1.28.0.tar.gz
###
##############################################################################
##############################################################################
install for i386
* installing *source* package 'staRank' ...
** using staged installation
** R
** data
** inst
** byte-compile and prepare package for lazy loading
** help
*** installing help indices
converting help for package 'staRank'
finding HTML links ... done
Pi-methods html
RankSummary-class html
aggregRank html
avrgRank-methods html
baseRank-methods html
dataFormatRSA html
getRankmatrix html
getSampleScores-methods html
getStability html
method-methods html
mwTest2samp html
rankCor-methods html
runRSA html
salmonellaInfection html
salmonellaStability html
show-methods html
staRank-package html
stabRank-methods html
stabilityRanking-methods html
stableSetSize-methods html
summary-methods html
summaryStats-methods html
uniqueRSARanking html
** building package indices
** installing vignettes
** testing if installed package can be loaded from temporary location
** testing if installed package can be loaded from final location
** testing if installed package keeps a record of temporary installation path
install for x64
* installing *source* package 'staRank' ...
** testing if installed package can be loaded
* MD5 sums
packaged installation of 'staRank' as staRank_1.28.0.zip
* DONE (staRank)