| Back to Multiple platform build/check report for BioC 3.10 | 
  | 
This page was generated on 2020-04-15 12:17:32 -0400 (Wed, 15 Apr 2020).
| Package 1660/1823 | Hostname | OS / Arch | INSTALL | BUILD | CHECK | BUILD BIN | ||||||
| sscore 1.58.0 Richard Kennedy 
  | malbec1 | Linux (Ubuntu 18.04.4 LTS) / x86_64 | OK | OK | OK | |||||||
| tokay1 | Windows Server 2012 R2 Standard / x64 | OK | OK | OK | [ OK ] | |||||||
| merida1 | OS X 10.11.6 El Capitan / x86_64 | OK | OK | OK | OK | 
| Package: sscore | 
| Version: 1.58.0 | 
| Command: rm -rf sscore.buildbin-libdir && mkdir sscore.buildbin-libdir && C:\Users\biocbuild\bbs-3.10-bioc\R\bin\R.exe CMD INSTALL --merge-multiarch --build --library=sscore.buildbin-libdir sscore_1.58.0.tar.gz | 
| StartedAt: 2020-04-15 09:45:33 -0400 (Wed, 15 Apr 2020) | 
| EndedAt: 2020-04-15 09:46:11 -0400 (Wed, 15 Apr 2020) | 
| EllapsedTime: 37.9 seconds | 
| RetCode: 0 | 
| Status: OK | 
| PackageFile: sscore_1.58.0.zip | 
| PackageFileSize: 270 KiB | 
##############################################################################
##############################################################################
###
### Running command:
###
###   rm -rf sscore.buildbin-libdir && mkdir sscore.buildbin-libdir && C:\Users\biocbuild\bbs-3.10-bioc\R\bin\R.exe CMD INSTALL --merge-multiarch --build --library=sscore.buildbin-libdir sscore_1.58.0.tar.gz
###
##############################################################################
##############################################################################
install for i386
* installing *source* package 'sscore' ...
** using staged installation
** R
** inst
** byte-compile and prepare package for lazy loading
** help
*** installing help indices
  converting help for package 'sscore'
    finding HTML links ... done
    OneStepBiweightAlgorithm                html  
    SScore                                  html  
    SScoreBatch                             html  
    computeAffxRawQ                         html  
    computeAffxSFandSDT                     html  
    computeOutlier                          html  
    computeRawQ                             html  
    computeSFandSDT                         html  
    computeZoneIInfo                        html  
    computeZonenoise                        html  
    trimMean                                html  
** building package indices
** installing vignettes
** testing if installed package can be loaded from temporary location
** testing if installed package can be loaded from final location
** testing if installed package keeps a record of temporary installation path
install for x64
* installing *source* package 'sscore' ...
** testing if installed package can be loaded
* MD5 sums
packaged installation of 'sscore' as sscore_1.58.0.zip
* DONE (sscore)