| Back to Multiple platform build/check report for BioC 3.10 |
|
This page was generated on 2020-04-15 12:17:47 -0400 (Wed, 15 Apr 2020).
| Package 1650/1823 | Hostname | OS / Arch | INSTALL | BUILD | CHECK | BUILD BIN | ||||||
| splots 1.52.0 Wolfgang Huber
| malbec1 | Linux (Ubuntu 18.04.4 LTS) / x86_64 | OK | OK | OK | |||||||
| tokay1 | Windows Server 2012 R2 Standard / x64 | OK | OK | OK | [ OK ] | |||||||
| merida1 | OS X 10.11.6 El Capitan / x86_64 | OK | OK | OK | OK |
| Package: splots |
| Version: 1.52.0 |
| Command: rm -rf splots.buildbin-libdir && mkdir splots.buildbin-libdir && C:\Users\biocbuild\bbs-3.10-bioc\R\bin\R.exe CMD INSTALL --merge-multiarch --build --library=splots.buildbin-libdir splots_1.52.0.tar.gz |
| StartedAt: 2020-04-15 09:44:59 -0400 (Wed, 15 Apr 2020) |
| EndedAt: 2020-04-15 09:45:40 -0400 (Wed, 15 Apr 2020) |
| EllapsedTime: 41.0 seconds |
| RetCode: 0 |
| Status: OK |
| PackageFile: splots_1.52.0.zip |
| PackageFileSize: 139 KiB |
##############################################################################
##############################################################################
###
### Running command:
###
### rm -rf splots.buildbin-libdir && mkdir splots.buildbin-libdir && C:\Users\biocbuild\bbs-3.10-bioc\R\bin\R.exe CMD INSTALL --merge-multiarch --build --library=splots.buildbin-libdir splots_1.52.0.tar.gz
###
##############################################################################
##############################################################################
install for i386
* installing *source* package 'splots' ...
** using staged installation
** R
** inst
** byte-compile and prepare package for lazy loading
** help
*** installing help indices
converting help for package 'splots'
finding HTML links ... done
plotScreen html
** building package indices
** installing vignettes
** testing if installed package can be loaded from temporary location
** testing if installed package can be loaded from final location
** testing if installed package keeps a record of temporary installation path
install for x64
* installing *source* package 'splots' ...
** testing if installed package can be loaded
* MD5 sums
packaged installation of 'splots' as splots_1.52.0.zip
* DONE (splots)