| Back to Multiple platform build/check report for BioC 3.10 |
|
This page was generated on 2020-04-15 12:24:29 -0400 (Wed, 15 Apr 2020).
| Package 1611/1823 | Hostname | OS / Arch | INSTALL | BUILD | CHECK | BUILD BIN | ||||||
| skewr 1.18.0 Ryan Putney
| malbec1 | Linux (Ubuntu 18.04.4 LTS) / x86_64 | OK | OK | OK | |||||||
| tokay1 | Windows Server 2012 R2 Standard / x64 | OK | OK | OK | [ OK ] | |||||||
| merida1 | OS X 10.11.6 El Capitan / x86_64 | OK | OK | OK | OK |
| Package: skewr |
| Version: 1.18.0 |
| Command: rm -rf skewr.buildbin-libdir && mkdir skewr.buildbin-libdir && C:\Users\biocbuild\bbs-3.10-bioc\R\bin\R.exe CMD INSTALL --merge-multiarch --build --library=skewr.buildbin-libdir skewr_1.18.0.tar.gz |
| StartedAt: 2020-04-15 09:42:47 -0400 (Wed, 15 Apr 2020) |
| EndedAt: 2020-04-15 09:43:49 -0400 (Wed, 15 Apr 2020) |
| EllapsedTime: 62.7 seconds |
| RetCode: 0 |
| Status: OK |
| PackageFile: skewr_1.18.0.zip |
| PackageFileSize: 380.5 KiB |
##############################################################################
##############################################################################
###
### Running command:
###
### rm -rf skewr.buildbin-libdir && mkdir skewr.buildbin-libdir && C:\Users\biocbuild\bbs-3.10-bioc\R\bin\R.exe CMD INSTALL --merge-multiarch --build --library=skewr.buildbin-libdir skewr_1.18.0.tar.gz
###
##############################################################################
##############################################################################
install for i386
* installing *source* package 'skewr' ...
** using staged installation
** R
** inst
** byte-compile and prepare package for lazy loading
No methods found in package 'RSQLite' for request: 'dbListFields' when loading 'lumi'
** help
*** installing help indices
converting help for package 'skewr'
finding HTML links ... done
getBarcodes html
getMethyLumiSet html
getSNparams html
panelPlots html
preprocess html
subsetProbes html
** building package indices
** installing vignettes
** testing if installed package can be loaded from temporary location
No methods found in package 'RSQLite' for request: 'dbListFields' when loading 'lumi'
** testing if installed package can be loaded from final location
No methods found in package 'RSQLite' for request: 'dbListFields' when loading 'lumi'
** testing if installed package keeps a record of temporary installation path
install for x64
* installing *source* package 'skewr' ...
** testing if installed package can be loaded
No methods found in package 'RSQLite' for request: 'dbListFields' when loading 'lumi'
* MD5 sums
packaged installation of 'skewr' as skewr_1.18.0.zip
* DONE (skewr)