| Back to Multiple platform build/check report for BioC 3.10 | 
  | 
This page was generated on 2020-04-15 12:40:44 -0400 (Wed, 15 Apr 2020).
| Package 1602/1823 | Hostname | OS / Arch | INSTALL | BUILD | CHECK | BUILD BIN | ||||||
| simulatorZ 1.20.0 Yuqing Zhang 
  | malbec1 | Linux (Ubuntu 18.04.4 LTS) / x86_64 | OK | OK | OK | |||||||
| tokay1 | Windows Server 2012 R2 Standard / x64 | OK | OK | OK | OK | |||||||
| merida1 | OS X 10.11.6 El Capitan / x86_64 | OK | OK | OK | [ OK ] | 
| Package: simulatorZ | 
| Version: 1.20.0 | 
| Command: rm -rf simulatorZ.buildbin-libdir && mkdir simulatorZ.buildbin-libdir && /Users/biocbuild/BBS/utils/build-universal.sh simulatorZ_1.20.0.tar.gz /Library/Frameworks/R.framework/Versions/Current/Resources/bin/R simulatorZ.buildbin-libdir | 
| StartedAt: 2020-04-15 08:46:25 -0400 (Wed, 15 Apr 2020) | 
| EndedAt: 2020-04-15 08:47:32 -0400 (Wed, 15 Apr 2020) | 
| EllapsedTime: 67.6 seconds | 
| RetCode: 0 | 
| Status: OK | 
| PackageFile: simulatorZ_1.20.0.tgz | 
| PackageFileSize: 305.9 KiB | 
##############################################################################
##############################################################################
###
### Running command:
###
###   rm -rf simulatorZ.buildbin-libdir && mkdir simulatorZ.buildbin-libdir && /Users/biocbuild/BBS/utils/build-universal.sh simulatorZ_1.20.0.tar.gz /Library/Frameworks/R.framework/Versions/Current/Resources/bin/R simulatorZ.buildbin-libdir
###
##############################################################################
##############################################################################
>>>>>>> 
>>>>>>> INSTALLATION WITH 'R CMD INSTALL --preclean --no-multiarch --library=simulatorZ.buildbin-libdir simulatorZ_1.20.0.tar.gz'
>>>>>>> 
* installing *source* package ‘simulatorZ’ ...
** using staged installation
** libs
clang++ -std=gnu++11 -I"/Library/Frameworks/R.framework/Resources/include" -DNDEBUG   -isysroot /Library/Developer/CommandLineTools/SDKs/MacOSX.sdk -I/usr/local/include  -fPIC  -Wall -g -O2  -c coxformatrices.cpp -o coxformatrices.o
coxformatrices.cpp:79:17: warning: suggest braces around initialization of subobject [-Wmissing-braces]
                NULL
                ^~~~
                {   }
/usr/local/clang7/lib/clang/7.0.0/include/stddef.h:100:18: note: expanded from macro 'NULL'
#    define NULL __null
                 ^~~~~~
1 warning generated.
clang++ -std=gnu++11 -dynamiclib -Wl,-headerpad_max_install_names -undefined dynamic_lookup -single_module -multiply_defined suppress -L/Library/Frameworks/R.framework/Resources/lib -L/usr/local/lib -o simulatorZ.so coxformatrices.o -F/Library/Frameworks/R.framework/.. -framework R -Wl,-framework -Wl,CoreFoundation
installing to /Users/biocbuild/bbs-3.10-bioc/meat/simulatorZ.buildbin-libdir/00LOCK-simulatorZ/00new/simulatorZ/libs
** R
** inst
** byte-compile and prepare package for lazy loading
** help
*** installing help indices
** building package indices
** installing vignettes
** testing if installed package can be loaded from temporary location
** checking absolute paths in shared objects and dynamic libraries
** testing if installed package can be loaded from final location
** testing if installed package keeps a record of temporary installation path
* DONE (simulatorZ)
>>>>>>> 
>>>>>>> FIXING LINKS FOR simulatorZ.buildbin-libdir/simulatorZ/libs//simulatorZ.so
>>>>>>> 
install_name_tool -change "/usr/local/lib/libgcc_s.1.dylib" "/Library/Frameworks/R.framework/Versions/3.6/Resources/lib/libgcc_s.1.dylib" "simulatorZ.buildbin-libdir/simulatorZ/libs//simulatorZ.so"
install_name_tool -change "/usr/local/lib/libgfortran.3.dylib" "/Library/Frameworks/R.framework/Versions/3.6/Resources/lib/libgfortran.3.dylib" "simulatorZ.buildbin-libdir/simulatorZ/libs//simulatorZ.so"
install_name_tool -change "/usr/local/lib/libreadline.5.2.dylib" "/Library/Frameworks/R.framework/Versions/3.6/Resources/lib/libreadline.5.2.dylib" "simulatorZ.buildbin-libdir/simulatorZ/libs//simulatorZ.so"
install_name_tool -change "/usr/local/lib/libreadline.dylib" "/Library/Frameworks/R.framework/Versions/3.6/Resources/lib/libreadline.dylib" "simulatorZ.buildbin-libdir/simulatorZ/libs//simulatorZ.so"
install_name_tool -change "/usr/local/lib/libquadmath.0.dylib" "/Library/Frameworks/R.framework/Versions/3.6/Resources/lib/libquadmath.0.dylib" "simulatorZ.buildbin-libdir/simulatorZ/libs//simulatorZ.so"