| Back to Multiple platform build/check report for BioC 3.10 | 
  | 
This page was generated on 2020-04-15 12:39:23 -0400 (Wed, 15 Apr 2020).
| Package 1579/1823 | Hostname | OS / Arch | INSTALL | BUILD | CHECK | BUILD BIN | ||||||
| shinyTANDEM 1.24.0 Frederic Fournier 
  | malbec1 | Linux (Ubuntu 18.04.4 LTS) / x86_64 | OK | OK | OK | |||||||
| tokay1 | Windows Server 2012 R2 Standard / x64 | OK | OK | OK | OK | |||||||
| merida1 | OS X 10.11.6 El Capitan / x86_64 | ERROR | [ ERROR ] | skipped | skipped | 
| Package: shinyTANDEM | 
| Version: 1.24.0 | 
| Command: /Library/Frameworks/R.framework/Versions/Current/Resources/bin/R CMD build --keep-empty-dirs --no-resave-data shinyTANDEM | 
| StartedAt: 2020-04-14 20:55:19 -0400 (Tue, 14 Apr 2020) | 
| EndedAt: 2020-04-14 20:55:27 -0400 (Tue, 14 Apr 2020) | 
| EllapsedTime: 8.0 seconds | 
| RetCode: 1 | 
| Status: ERROR | 
| PackageFile: None | 
| PackageFileSize: NA | 
##############################################################################
##############################################################################
###
### Running command:
###
###   /Library/Frameworks/R.framework/Versions/Current/Resources/bin/R CMD build --keep-empty-dirs --no-resave-data shinyTANDEM
###
##############################################################################
##############################################################################
* checking for file ‘shinyTANDEM/DESCRIPTION’ ... OK
* preparing ‘shinyTANDEM’:
* checking DESCRIPTION meta-information ... OK
* installing the package to build vignettes
      -----------------------------------
ERROR: dependency ‘rTANDEM’ is not available for package ‘shinyTANDEM’
* removing ‘/private/tmp/RtmpZli2s7/Rinsta815a37b690/shinyTANDEM’
      -----------------------------------
ERROR: package installation failed