| Back to Multiple platform build/check report for BioC 3.10 | 
  | 
This page was generated on 2020-04-15 12:24:21 -0400 (Wed, 15 Apr 2020).
| Package 1558/1823 | Hostname | OS / Arch | INSTALL | BUILD | CHECK | BUILD BIN | ||||||
| seq2pathway 1.18.0 Xinan Yang 
  | malbec1 | Linux (Ubuntu 18.04.4 LTS) / x86_64 | OK | OK | OK | |||||||
| tokay1 | Windows Server 2012 R2 Standard / x64 | OK | OK | OK | [ OK ] | |||||||
| merida1 | OS X 10.11.6 El Capitan / x86_64 | OK | OK | OK | OK | 
| Package: seq2pathway | 
| Version: 1.18.0 | 
| Command: rm -rf seq2pathway.buildbin-libdir && mkdir seq2pathway.buildbin-libdir && C:\Users\biocbuild\bbs-3.10-bioc\R\bin\R.exe CMD INSTALL --merge-multiarch --build --library=seq2pathway.buildbin-libdir seq2pathway_1.18.0.tar.gz | 
| StartedAt: 2020-04-15 09:39:45 -0400 (Wed, 15 Apr 2020) | 
| EndedAt: 2020-04-15 09:40:41 -0400 (Wed, 15 Apr 2020) | 
| EllapsedTime: 56.1 seconds | 
| RetCode: 0 | 
| Status: OK | 
| PackageFile: seq2pathway_1.18.0.zip | 
| PackageFileSize: 1.733 MiB | 
##############################################################################
##############################################################################
###
### Running command:
###
###   rm -rf seq2pathway.buildbin-libdir && mkdir seq2pathway.buildbin-libdir && C:\Users\biocbuild\bbs-3.10-bioc\R\bin\R.exe CMD INSTALL --merge-multiarch --build --library=seq2pathway.buildbin-libdir seq2pathway_1.18.0.tar.gz
###
##############################################################################
##############################################################################
install for i386
* installing *source* package 'seq2pathway' ...
** using staged installation
** R
** data
** inst
** byte-compile and prepare package for lazy loading
** help
*** installing help indices
  converting help for package 'seq2pathway'
    finding HTML links ... done
    Chipseq_Peak_demo                       html  
    FisherTest_GO_BP_MF_CC                  html  
    FisherTest_MsigDB                       html  
    GRanges_demo                            html  
    addDescription                          html  
    dat_RNA                                 html  
    dat_chip                                html  
    gene2pathway_test                       html  
    plotTop10                               html  
    runseq2gene                             html  
    runseq2pathway                          html  
** building package indices
** installing vignettes
** testing if installed package can be loaded from temporary location
** testing if installed package can be loaded from final location
** testing if installed package keeps a record of temporary installation path
install for x64
* installing *source* package 'seq2pathway' ...
** testing if installed package can be loaded
* MD5 sums
packaged installation of 'seq2pathway' as seq2pathway_1.18.0.zip
* DONE (seq2pathway)