| Back to Multiple platform build/check report for BioC 3.10 |
|
This page was generated on 2020-04-15 12:28:19 -0400 (Wed, 15 Apr 2020).
| Package 1555/1823 | Hostname | OS / Arch | INSTALL | BUILD | CHECK | BUILD BIN | ||||||
| semisup 1.10.0 Armin Rauschenberger
| malbec1 | Linux (Ubuntu 18.04.4 LTS) / x86_64 | OK | OK | OK | |||||||
| tokay1 | Windows Server 2012 R2 Standard / x64 | OK | OK | OK | [ OK ] | |||||||
| merida1 | OS X 10.11.6 El Capitan / x86_64 | OK | OK | OK | OK |
| Package: semisup |
| Version: 1.10.0 |
| Command: rm -rf semisup.buildbin-libdir && mkdir semisup.buildbin-libdir && C:\Users\biocbuild\bbs-3.10-bioc\R\bin\R.exe CMD INSTALL --merge-multiarch --build --library=semisup.buildbin-libdir semisup_1.10.0.tar.gz |
| StartedAt: 2020-04-15 09:39:38 -0400 (Wed, 15 Apr 2020) |
| EndedAt: 2020-04-15 09:39:52 -0400 (Wed, 15 Apr 2020) |
| EllapsedTime: 14.3 seconds |
| RetCode: 0 |
| Status: OK |
| PackageFile: semisup_1.10.0.zip |
| PackageFileSize: 366.2 KiB |
##############################################################################
##############################################################################
###
### Running command:
###
### rm -rf semisup.buildbin-libdir && mkdir semisup.buildbin-libdir && C:\Users\biocbuild\bbs-3.10-bioc\R\bin\R.exe CMD INSTALL --merge-multiarch --build --library=semisup.buildbin-libdir semisup_1.10.0.tar.gz
###
##############################################################################
##############################################################################
install for i386
* installing *source* package 'semisup' ...
** using staged installation
** R
** data
*** moving datasets to lazyload DB
** inst
** byte-compile and prepare package for lazy loading
** help
*** installing help indices
converting help for package 'semisup'
finding HTML links ... done
arguments html
debug html
estim.nbinom html
fit.nbinom html
fit.norm html
fit.wrap html
fit.zinb html
internal html
mixtura html
resam.lrts html
scrutor html
semisup-package html
table html
toydata html
** building package indices
** installing vignettes
** testing if installed package can be loaded from temporary location
** testing if installed package can be loaded from final location
** testing if installed package keeps a record of temporary installation path
install for x64
* installing *source* package 'semisup' ...
** testing if installed package can be loaded
* MD5 sums
packaged installation of 'semisup' as semisup_1.10.0.zip
* DONE (semisup)