| Back to Multiple platform build/check report for BioC 3.10 |
|
This page was generated on 2020-04-15 12:33:32 -0400 (Wed, 15 Apr 2020).
| Package 1543/1823 | Hostname | OS / Arch | INSTALL | BUILD | CHECK | BUILD BIN | ||||||
| scPCA 1.0.0 Philippe Boileau
| malbec1 | Linux (Ubuntu 18.04.4 LTS) / x86_64 | OK | OK | OK | |||||||
| tokay1 | Windows Server 2012 R2 Standard / x64 | OK | OK | OK | [ OK ] | |||||||
| merida1 | OS X 10.11.6 El Capitan / x86_64 | OK | OK | OK | OK |
| Package: scPCA |
| Version: 1.0.0 |
| Command: rm -rf scPCA.buildbin-libdir && mkdir scPCA.buildbin-libdir && C:\Users\biocbuild\bbs-3.10-bioc\R\bin\R.exe CMD INSTALL --merge-multiarch --build --library=scPCA.buildbin-libdir scPCA_1.0.0.tar.gz |
| StartedAt: 2020-04-15 09:38:58 -0400 (Wed, 15 Apr 2020) |
| EndedAt: 2020-04-15 09:39:15 -0400 (Wed, 15 Apr 2020) |
| EllapsedTime: 17.7 seconds |
| RetCode: 0 |
| Status: OK |
| PackageFile: scPCA_1.0.0.zip |
| PackageFileSize: 814 KiB |
##############################################################################
##############################################################################
###
### Running command:
###
### rm -rf scPCA.buildbin-libdir && mkdir scPCA.buildbin-libdir && C:\Users\biocbuild\bbs-3.10-bioc\R\bin\R.exe CMD INSTALL --merge-multiarch --build --library=scPCA.buildbin-libdir scPCA_1.0.0.tar.gz
###
##############################################################################
##############################################################################
install for i386
* installing *source* package 'scPCA' ...
** using staged installation
** R
** data
*** moving datasets to lazyload DB
** inst
** byte-compile and prepare package for lazy loading
** help
*** installing help indices
converting help for package 'scPCA'
finding HTML links ... done
background_df html
bpContrastiveCov html
bpFitCPCA html
bpFitGrid html
checkArgs html
coerceMatrix html
contrastiveCov html
covMat html
cvSelectParams html
fitCPCA html
fitGrid html
scPCA html
selectParams html
toy_df html
*** copying figures
** building package indices
** installing vignettes
** testing if installed package can be loaded from temporary location
** testing if installed package can be loaded from final location
** testing if installed package keeps a record of temporary installation path
install for x64
* installing *source* package 'scPCA' ...
** testing if installed package can be loaded
* MD5 sums
packaged installation of 'scPCA' as scPCA_1.0.0.zip
* DONE (scPCA)