| Back to Multiple platform build/check report for BioC 3.10 |
|
This page was generated on 2020-04-15 12:39:36 -0400 (Wed, 15 Apr 2020).
| Package 1516/1823 | Hostname | OS / Arch | INSTALL | BUILD | CHECK | BUILD BIN | ||||||
| savR 1.24.0 R. Brent Calder
| malbec1 | Linux (Ubuntu 18.04.4 LTS) / x86_64 | OK | OK | OK | |||||||
| tokay1 | Windows Server 2012 R2 Standard / x64 | OK | OK | OK | OK | |||||||
| merida1 | OS X 10.11.6 El Capitan / x86_64 | OK | OK | [ OK ] | OK |
| Package: savR |
| Version: 1.24.0 |
| Command: /Library/Frameworks/R.framework/Versions/Current/Resources/bin/R CMD check --install=check:savR.install-out.txt --library=/Library/Frameworks/R.framework/Versions/Current/Resources/library --no-vignettes --timings savR_1.24.0.tar.gz |
| StartedAt: 2020-04-15 05:26:53 -0400 (Wed, 15 Apr 2020) |
| EndedAt: 2020-04-15 05:28:29 -0400 (Wed, 15 Apr 2020) |
| EllapsedTime: 95.8 seconds |
| RetCode: 0 |
| Status: OK |
| CheckDir: savR.Rcheck |
| Warnings: 0 |
##############################################################################
##############################################################################
###
### Running command:
###
### /Library/Frameworks/R.framework/Versions/Current/Resources/bin/R CMD check --install=check:savR.install-out.txt --library=/Library/Frameworks/R.framework/Versions/Current/Resources/library --no-vignettes --timings savR_1.24.0.tar.gz
###
##############################################################################
##############################################################################
* using log directory ‘/Users/biocbuild/bbs-3.10-bioc/meat/savR.Rcheck’
* using R version 3.6.3 (2020-02-29)
* using platform: x86_64-apple-darwin15.6.0 (64-bit)
* using session charset: UTF-8
* using option ‘--no-vignettes’
* checking for file ‘savR/DESCRIPTION’ ... OK
* checking extension type ... Package
* this is package ‘savR’ version ‘1.24.0’
* checking package namespace information ... OK
* checking package dependencies ... OK
* checking if this is a source package ... OK
* checking if there is a namespace ... OK
* checking for hidden files and directories ... OK
* checking for portable file names ... OK
* checking for sufficient/correct file permissions ... OK
* checking whether package ‘savR’ can be installed ... OK
* checking installed package size ... OK
* checking package directory ... OK
* checking ‘build’ directory ... OK
* checking DESCRIPTION meta-information ... OK
* checking top-level files ... OK
* checking for left-over files ... OK
* checking index information ... OK
* checking package subdirectories ... OK
* checking R files for non-ASCII characters ... OK
* checking R files for syntax errors ... OK
* checking whether the package can be loaded ... OK
* checking whether the package can be loaded with stated dependencies ... OK
* checking whether the package can be unloaded cleanly ... OK
* checking whether the namespace can be loaded with stated dependencies ... OK
* checking whether the namespace can be unloaded cleanly ... OK
* checking dependencies in R code ... OK
* checking S3 generic/method consistency ... OK
* checking replacement functions ... OK
* checking foreign function calls ... OK
* checking R code for possible problems ... NOTE
buildReports,savProject-character: no visible global function
definition for ‘dev.off’
qualityHeatmap,savProject-integer-integer-logical: no visible global
function definition for ‘quantile’
Undefined global functions or variables:
dev.off quantile
Consider adding
importFrom("grDevices", "dev.off")
importFrom("stats", "quantile")
to your NAMESPACE file.
* checking Rd files ... OK
* checking Rd metadata ... OK
* checking Rd cross-references ... OK
* checking for missing documentation entries ... OK
* checking for code/documentation mismatches ... OK
* checking Rd \usage sections ... OK
* checking Rd contents ... OK
* checking for unstated dependencies in examples ... OK
* checking sizes of PDF files under ‘inst/doc’ ... OK
* checking files in ‘vignettes’ ... OK
* checking examples ... OK
* checking for unstated dependencies in ‘tests’ ... OK
* checking tests ...
Running ‘testthat.R’
OK
* checking for unstated dependencies in vignettes ... OK
* checking package vignettes in ‘inst/doc’ ... OK
* checking running R code from vignettes ... SKIPPED
* checking re-building of vignette outputs ... SKIPPED
* checking PDF version of manual ... OK
* DONE
Status: 1 NOTE
See
‘/Users/biocbuild/bbs-3.10-bioc/meat/savR.Rcheck/00check.log’
for details.
savR.Rcheck/00install.out
############################################################################## ############################################################################## ### ### Running command: ### ### /Library/Frameworks/R.framework/Versions/Current/Resources/bin/R CMD INSTALL savR ### ############################################################################## ############################################################################## * installing to library ‘/Library/Frameworks/R.framework/Versions/3.6/Resources/library’ * installing *source* package ‘savR’ ... ** using staged installation ** R ** inst ** byte-compile and prepare package for lazy loading ** help *** installing help indices ** building package indices ** installing vignettes ** testing if installed package can be loaded from temporary location ** testing if installed package can be loaded from final location ** testing if installed package keeps a record of temporary installation path * DONE (savR)
savR.Rcheck/tests/testthat.Rout
R version 3.6.3 (2020-02-29) -- "Holding the Windsock"
Copyright (C) 2020 The R Foundation for Statistical Computing
Platform: x86_64-apple-darwin15.6.0 (64-bit)
R is free software and comes with ABSOLUTELY NO WARRANTY.
You are welcome to redistribute it under certain conditions.
Type 'license()' or 'licence()' for distribution details.
R is a collaborative project with many contributors.
Type 'contributors()' for more information and
'citation()' on how to cite R or R packages in publications.
Type 'demo()' for some demos, 'help()' for on-line help, or
'help.start()' for an HTML browser interface to help.
Type 'q()' to quit R.
> library(testthat)
> library(savR)
Loading required package: ggplot2
>
> test_check("savR")
══ testthat results ═══════════════════════════════════════════════════════════
[ OK: 8 | SKIPPED: 7 | WARNINGS: 0 | FAILED: 0 ]
>
> proc.time()
user system elapsed
9.243 0.210 9.516
savR.Rcheck/savR-Ex.timings
| name | user | system | elapsed | |
| buildReports | 0 | 0 | 0 | |
| clusterQualityGtN | 0.001 | 0.000 | 0.000 | |
| clusters | 0 | 0 | 0 | |
| correctedIntensities | 3.197 | 0.020 | 3.248 | |
| cycles | 3.580 | 0.024 | 3.644 | |
| directions | 3.345 | 0.025 | 3.391 | |
| errorMetrics | 3.338 | 0.020 | 3.385 | |
| extractionMetrics | 3.018 | 0.014 | 3.063 | |
| flowcellLayout | 3.155 | 0.019 | 3.201 | |
| location | 3.266 | 0.014 | 3.310 | |
| pfClusters | 0.001 | 0.000 | 0.000 | |
| qualityMetrics | 3.357 | 0.022 | 3.407 | |
| reads | 3.362 | 0.014 | 3.412 | |
| run | 3.259 | 0.016 | 3.302 | |
| savR | 3.128 | 0.012 | 3.162 | |
| tileMetrics | 3.111 | 0.015 | 3.149 | |