| Back to Multiple platform build/check report for BioC 3.10 |
|
This page was generated on 2020-04-15 12:39:50 -0400 (Wed, 15 Apr 2020).
| Package 1515/1823 | Hostname | OS / Arch | INSTALL | BUILD | CHECK | BUILD BIN | ||||||
| sapFinder 1.24.0 Shaohang Xu
| malbec1 | Linux (Ubuntu 18.04.4 LTS) / x86_64 | OK | OK | OK | |||||||
| tokay1 | Windows Server 2012 R2 Standard / x64 | OK | OK | OK | OK | |||||||
| merida1 | OS X 10.11.6 El Capitan / x86_64 | ERROR | [ ERROR ] | skipped | skipped |
| Package: sapFinder |
| Version: 1.24.0 |
| Command: /Library/Frameworks/R.framework/Versions/Current/Resources/bin/R CMD build --keep-empty-dirs --no-resave-data sapFinder |
| StartedAt: 2020-04-14 21:01:06 -0400 (Tue, 14 Apr 2020) |
| EndedAt: 2020-04-14 21:01:07 -0400 (Tue, 14 Apr 2020) |
| EllapsedTime: 1.0 seconds |
| RetCode: 1 |
| Status: ERROR |
| PackageFile: None |
| PackageFileSize: NA |
##############################################################################
##############################################################################
###
### Running command:
###
### /Library/Frameworks/R.framework/Versions/Current/Resources/bin/R CMD build --keep-empty-dirs --no-resave-data sapFinder
###
##############################################################################
##############################################################################
* checking for file ‘sapFinder/DESCRIPTION’ ... OK
* preparing ‘sapFinder’:
* checking DESCRIPTION meta-information ... OK
* cleaning src
* installing the package to build vignettes
-----------------------------------
ERROR: dependency ‘rTANDEM’ is not available for package ‘sapFinder’
* removing ‘/private/tmp/RtmpbWK6zZ/Rinst10df96cffce13/sapFinder’
-----------------------------------
ERROR: package installation failed