| Back to Multiple platform build/check report for BioC 3.10 |
|
This page was generated on 2020-04-15 12:27:32 -0400 (Wed, 15 Apr 2020).
| Package 1410/1823 | Hostname | OS / Arch | INSTALL | BUILD | CHECK | BUILD BIN | ||||||
| regsplice 1.12.6 Lukas M. Weber
| malbec1 | Linux (Ubuntu 18.04.4 LTS) / x86_64 | OK | OK | OK | |||||||
| tokay1 | Windows Server 2012 R2 Standard / x64 | OK | OK | WARNINGS | [ OK ] | |||||||
| merida1 | OS X 10.11.6 El Capitan / x86_64 | OK | OK | OK | OK |
| Package: regsplice |
| Version: 1.12.6 |
| Command: rm -rf regsplice.buildbin-libdir && mkdir regsplice.buildbin-libdir && C:\Users\biocbuild\bbs-3.10-bioc\R\bin\R.exe CMD INSTALL --merge-multiarch --build --library=regsplice.buildbin-libdir regsplice_1.12.6.tar.gz |
| StartedAt: 2020-04-15 09:31:26 -0400 (Wed, 15 Apr 2020) |
| EndedAt: 2020-04-15 09:31:54 -0400 (Wed, 15 Apr 2020) |
| EllapsedTime: 27.6 seconds |
| RetCode: 0 |
| Status: OK |
| PackageFile: regsplice_1.12.6.zip |
| PackageFileSize: 474.9 KiB |
##############################################################################
##############################################################################
###
### Running command:
###
### rm -rf regsplice.buildbin-libdir && mkdir regsplice.buildbin-libdir && C:\Users\biocbuild\bbs-3.10-bioc\R\bin\R.exe CMD INSTALL --merge-multiarch --build --library=regsplice.buildbin-libdir regsplice_1.12.6.tar.gz
###
##############################################################################
##############################################################################
install for i386
* installing *source* package 'regsplice' ...
** using staged installation
** R
** inst
** byte-compile and prepare package for lazy loading
** help
*** installing help indices
converting help for package 'regsplice'
finding HTML links ... done
LRTests html
RegspliceData html
Rd warning: C:/Users/biocbuild/bbs-3.10-bioc/tmpdir/Rtmpk7d71P/R.INSTALL27b87ac12ca8/regsplice/man/RegspliceData.Rd:75: file link 'SummarizedExperiment' in package 'SummarizedExperiment' does not exist and so has been treated as a topic
RegspliceResults html
createDesignMatrix html
filterLowCounts html
filterZeros html
fitRegMultiple html
initializeResults html
finding level-2 HTML links ... done
regsplice html
runNormalization html
runVoom html
summaryTable html
** building package indices
** installing vignettes
** testing if installed package can be loaded from temporary location
** testing if installed package can be loaded from final location
** testing if installed package keeps a record of temporary installation path
install for x64
* installing *source* package 'regsplice' ...
** testing if installed package can be loaded
* MD5 sums
packaged installation of 'regsplice' as regsplice_1.12.6.zip
* DONE (regsplice)