| Back to Multiple platform build/check report for BioC 3.10 | 
  | 
This page was generated on 2020-04-15 12:27:03 -0400 (Wed, 15 Apr 2020).
| Package 1402/1823 | Hostname | OS / Arch | INSTALL | BUILD | CHECK | BUILD BIN | ||||||
| recount 1.12.1 Leonardo Collado-Torres 
  | malbec1 | Linux (Ubuntu 18.04.4 LTS) / x86_64 | OK | OK | OK | |||||||
| tokay1 | Windows Server 2012 R2 Standard / x64 | OK | OK | OK | [ OK ] | |||||||
| merida1 | OS X 10.11.6 El Capitan / x86_64 | OK | OK | OK | OK | 
| Package: recount | 
| Version: 1.12.1 | 
| Command: rm -rf recount.buildbin-libdir && mkdir recount.buildbin-libdir && C:\Users\biocbuild\bbs-3.10-bioc\R\bin\R.exe CMD INSTALL --merge-multiarch --build --library=recount.buildbin-libdir recount_1.12.1.tar.gz | 
| StartedAt: 2020-04-15 09:30:59 -0400 (Wed, 15 Apr 2020) | 
| EndedAt: 2020-04-15 09:32:09 -0400 (Wed, 15 Apr 2020) | 
| EllapsedTime: 70.5 seconds | 
| RetCode: 0 | 
| Status: OK | 
| PackageFile: recount_1.12.1.zip | 
| PackageFileSize: 12.99 MiB | 
##############################################################################
##############################################################################
###
### Running command:
###
###   rm -rf recount.buildbin-libdir && mkdir recount.buildbin-libdir && C:\Users\biocbuild\bbs-3.10-bioc\R\bin\R.exe CMD INSTALL --merge-multiarch --build --library=recount.buildbin-libdir recount_1.12.1.tar.gz
###
##############################################################################
##############################################################################
install for i386
* installing *source* package 'recount' ...
** using staged installation
** R
** data
*** moving datasets to lazyload DB
** inst
** byte-compile and prepare package for lazy loading
** help
*** installing help indices
  converting help for package 'recount'
    finding HTML links ... done
    abstract_search                         html  
    add_metadata                            html  
    add_predictions                         html  
    all_metadata                            html  
    browse_study                            html  
    coverage_matrix                         html  
    download_retry                          html  
    download_study                          html  
    expressed_regions                       html  
    find_geo                                html  
    geo_characteristics                     html  
    geo_info                                html  
    getRPKM                                 html  
    getTPM                                  html  
    read_counts                             html  
    recount-package                         html  
    recount_abstract                        html  
    recount_exons                           html  
    recount_genes                           html  
    recount_url                             html  
    reproduce_ranges                        html  
    rse_gene_SRP009615                      html  
    scale_counts                            html  
    snaptron_query                          html  
** building package indices
** installing vignettes
** testing if installed package can be loaded from temporary location
** testing if installed package can be loaded from final location
** testing if installed package keeps a record of temporary installation path
install for x64
* installing *source* package 'recount' ...
** testing if installed package can be loaded
* MD5 sums
packaged installation of 'recount' as recount_1.12.1.zip
* DONE (recount)