| Back to Multiple platform build/check report for BioC 3.10 |
|
This page was generated on 2019-04-06 19:13:51 -0400 (Sat, 06 Apr 2019).
| Package 249/306 | Hostname | OS / Arch | INSTALL | BUILD | CHECK | BUILD BIN | ||||||
Arnaud Droit
| malbec1 | Linux (Ubuntu 16.04.6 LTS) / x86_64 | ERROR | [ ERROR ] | skipped |
| Package: rMAT |
| Version: 3.33.1 |
| Command: /home/biocbuild/bbs-3.10-bioc/R/bin/R CMD build --keep-empty-dirs --no-resave-data rMAT |
| StartedAt: 2019-04-06 18:50:09 -0400 (Sat, 06 Apr 2019) |
| EndedAt: 2019-04-06 18:50:11 -0400 (Sat, 06 Apr 2019) |
| EllapsedTime: 2.4 seconds |
| RetCode: 1 |
| Status: ERROR |
| PackageFile: None |
| PackageFileSize: NA |
##############################################################################
##############################################################################
###
### Running command:
###
### /home/biocbuild/bbs-3.10-bioc/R/bin/R CMD build --keep-empty-dirs --no-resave-data rMAT
###
##############################################################################
##############################################################################
* checking for file ‘rMAT/DESCRIPTION’ ... OK
* preparing ‘rMAT’:
* checking DESCRIPTION meta-information ... OK
* cleaning src
* running ‘cleanup’
* installing the package to build vignettes
-----------------------------------
ERROR: dependencies ‘BiocGenerics’, ‘IRanges’, ‘Biobase’ are not available for package ‘rMAT’
* removing ‘/tmp/RtmpMIQTVj/Rinst58736cfddaa3/rMAT’
-----------------------------------
ERROR: package installation failed