| Back to Multiple platform build/check report for BioC 3.10 | 
  | 
This page was generated on 2020-04-15 12:18:03 -0400 (Wed, 15 Apr 2020).
| Package 1329/1823 | Hostname | OS / Arch | INSTALL | BUILD | CHECK | BUILD BIN | ||||||
| puma 3.28.0 Xuejun Liu 
  | malbec1 | Linux (Ubuntu 18.04.4 LTS) / x86_64 | OK | OK | WARNINGS | |||||||
| tokay1 | Windows Server 2012 R2 Standard / x64 | OK | [ OK ] | WARNINGS | OK | |||||||
| merida1 | OS X 10.11.6 El Capitan / x86_64 | OK | OK | WARNINGS | OK | 
| Package: puma | 
| Version: 3.28.0 | 
| Command: chmod a+r puma -R && C:\Users\biocbuild\bbs-3.10-bioc\R\bin\R.exe CMD build --keep-empty-dirs --no-resave-data puma | 
| StartedAt: 2020-04-14 20:57:00 -0400 (Tue, 14 Apr 2020) | 
| EndedAt: 2020-04-14 20:58:57 -0400 (Tue, 14 Apr 2020) | 
| EllapsedTime: 117.2 seconds | 
| RetCode: 0 | 
| Status: OK | 
| PackageFile: puma_3.28.0.tar.gz | 
| PackageFileSize: 3.218 MiB | 
##############################################################################
##############################################################################
###
### Running command:
###
###   chmod a+r puma -R && C:\Users\biocbuild\bbs-3.10-bioc\R\bin\R.exe CMD build --keep-empty-dirs --no-resave-data puma
###
##############################################################################
##############################################################################
* checking for file 'puma/DESCRIPTION' ... OK
* preparing 'puma':
* checking DESCRIPTION meta-information ... OK
* cleaning src
* installing the package to build vignettes
* creating vignettes ... OK
Warning: 'inst/doc' files
    'puma.Rnw', 'puma.pdf'
  ignored as vignettes have been rebuilt.
  Run R CMD build with --no-build-vignettes to prevent rebuilding.
* cleaning src
* checking for LF line-endings in source and make files and shell scripts
* checking for empty or unneeded directories
* looking to see if a 'data/datalist' file should be added
* building 'puma_3.28.0.tar.gz'