| Back to Multiple platform build/check report for BioC 3.10 | 
  | 
This page was generated on 2020-04-15 12:34:55 -0400 (Wed, 15 Apr 2020).
| Package 1291/1823 | Hostname | OS / Arch | INSTALL | BUILD | CHECK | BUILD BIN | ||||||
| ppiStats 1.52.0 Bioconductor Package Maintainer 
  | malbec1 | Linux (Ubuntu 18.04.4 LTS) / x86_64 | OK | OK | OK | |||||||
| tokay1 | Windows Server 2012 R2 Standard / x64 | OK | OK | OK | OK | |||||||
| merida1 | OS X 10.11.6 El Capitan / x86_64 | OK | OK | OK | [ OK ] | 
| Package: ppiStats | 
| Version: 1.52.0 | 
| Command: rm -rf ppiStats.buildbin-libdir && mkdir ppiStats.buildbin-libdir && /Users/biocbuild/BBS/utils/build-universal.sh ppiStats_1.52.0.tar.gz /Library/Frameworks/R.framework/Versions/Current/Resources/bin/R ppiStats.buildbin-libdir | 
| StartedAt: 2020-04-15 08:22:51 -0400 (Wed, 15 Apr 2020) | 
| EndedAt: 2020-04-15 08:23:37 -0400 (Wed, 15 Apr 2020) | 
| EllapsedTime: 46.3 seconds | 
| RetCode: 0 | 
| Status: OK | 
| PackageFile: ppiStats_1.52.0.tgz | 
| PackageFileSize: 1.245 MiB | 
############################################################################## ############################################################################## ### ### Running command: ### ### rm -rf ppiStats.buildbin-libdir && mkdir ppiStats.buildbin-libdir && /Users/biocbuild/BBS/utils/build-universal.sh ppiStats_1.52.0.tar.gz /Library/Frameworks/R.framework/Versions/Current/Resources/bin/R ppiStats.buildbin-libdir ### ############################################################################## ############################################################################## >>>>>>> >>>>>>> INSTALLATION WITH 'R CMD INSTALL --preclean --no-multiarch --library=ppiStats.buildbin-libdir ppiStats_1.52.0.tar.gz' >>>>>>> * installing *source* package ‘ppiStats’ ... ** using staged installation ** R ** inst ** byte-compile and prepare package for lazy loading No methods found in package ‘Biobase’ for request: ‘listlen’ when loading ‘RpsiXML’ No methods found in package ‘annotate’ for requests: ‘pubmed’, ‘buildPubMedAbst’ when loading ‘RpsiXML’ ** help *** installing help indices ** building package indices ** installing vignettes ** testing if installed package can be loaded from temporary location No methods found in package ‘Biobase’ for request: ‘listlen’ when loading ‘RpsiXML’ No methods found in package ‘annotate’ for requests: ‘pubmed’, ‘buildPubMedAbst’ when loading ‘RpsiXML’ ** testing if installed package can be loaded from final location No methods found in package ‘Biobase’ for request: ‘listlen’ when loading ‘RpsiXML’ No methods found in package ‘annotate’ for requests: ‘pubmed’, ‘buildPubMedAbst’ when loading ‘RpsiXML’ ** testing if installed package keeps a record of temporary installation path * DONE (ppiStats)