| Back to Multiple platform build/check report for BioC 3.10 | 
  | 
This page was generated on 2020-04-15 12:29:52 -0400 (Wed, 15 Apr 2020).
| Package 1289/1823 | Hostname | OS / Arch | INSTALL | BUILD | CHECK | BUILD BIN | ||||||
| powerTCR 1.6.0 Hillary Koch 
  | malbec1 | Linux (Ubuntu 18.04.4 LTS) / x86_64 | OK | OK | OK | |||||||
| tokay1 | Windows Server 2012 R2 Standard / x64 | OK | OK | OK | [ OK ] | |||||||
| merida1 | OS X 10.11.6 El Capitan / x86_64 | OK | OK | OK | OK | 
| Package: powerTCR | 
| Version: 1.6.0 | 
| Command: rm -rf powerTCR.buildbin-libdir && mkdir powerTCR.buildbin-libdir && C:\Users\biocbuild\bbs-3.10-bioc\R\bin\R.exe CMD INSTALL --merge-multiarch --build --library=powerTCR.buildbin-libdir powerTCR_1.6.0.tar.gz | 
| StartedAt: 2020-04-15 09:24:27 -0400 (Wed, 15 Apr 2020) | 
| EndedAt: 2020-04-15 09:25:12 -0400 (Wed, 15 Apr 2020) | 
| EllapsedTime: 44.7 seconds | 
| RetCode: 0 | 
| Status: OK | 
| PackageFile: powerTCR_1.6.0.zip | 
| PackageFileSize: 420.9 KiB | 
##############################################################################
##############################################################################
###
### Running command:
###
###   rm -rf powerTCR.buildbin-libdir && mkdir powerTCR.buildbin-libdir && C:\Users\biocbuild\bbs-3.10-bioc\R\bin\R.exe CMD INSTALL --merge-multiarch --build --library=powerTCR.buildbin-libdir powerTCR_1.6.0.tar.gz
###
##############################################################################
##############################################################################
install for i386
* installing *source* package 'powerTCR' ...
** using staged installation
** R
** data
*** moving datasets to lazyload DB
** inst
** byte-compile and prepare package for lazy loading
** help
*** installing help indices
  converting help for package 'powerTCR'
    finding HTML links ... done
    Accessors                               html  
    JS_desponds                             html  
    JS_dist                                 html  
    JS_spliced                              html  
    clusterPlot                             html  
    discgammagpd                            html  
    fdesponds                               html  
    fdiscgammagpd                           html  
    get_bootstraps                          html  
    get_distances                           html  
    parse                                   html  
    repertoires                             html  
** building package indices
** installing vignettes
** testing if installed package can be loaded from temporary location
** testing if installed package can be loaded from final location
** testing if installed package keeps a record of temporary installation path
install for x64
* installing *source* package 'powerTCR' ...
** testing if installed package can be loaded
* MD5 sums
packaged installation of 'powerTCR' as powerTCR_1.6.0.zip
* DONE (powerTCR)