| Back to Multiple platform build/check report for BioC 3.10 |
|
This page was generated on 2020-04-15 12:40:17 -0400 (Wed, 15 Apr 2020).
| Package 1246/1823 | Hostname | OS / Arch | INSTALL | BUILD | CHECK | BUILD BIN | ||||||
| pepStat 1.20.0 Gregory C Imholte
| malbec1 | Linux (Ubuntu 18.04.4 LTS) / x86_64 | OK | OK | OK | |||||||
| tokay1 | Windows Server 2012 R2 Standard / x64 | OK | OK | OK | OK | |||||||
| merida1 | OS X 10.11.6 El Capitan / x86_64 | OK | OK | [ OK ] | OK |
| Package: pepStat |
| Version: 1.20.0 |
| Command: /Library/Frameworks/R.framework/Versions/Current/Resources/bin/R CMD check --install=check:pepStat.install-out.txt --library=/Library/Frameworks/R.framework/Versions/Current/Resources/library --no-vignettes --timings pepStat_1.20.0.tar.gz |
| StartedAt: 2020-04-15 04:32:51 -0400 (Wed, 15 Apr 2020) |
| EndedAt: 2020-04-15 04:35:46 -0400 (Wed, 15 Apr 2020) |
| EllapsedTime: 174.9 seconds |
| RetCode: 0 |
| Status: OK |
| CheckDir: pepStat.Rcheck |
| Warnings: 0 |
##############################################################################
##############################################################################
###
### Running command:
###
### /Library/Frameworks/R.framework/Versions/Current/Resources/bin/R CMD check --install=check:pepStat.install-out.txt --library=/Library/Frameworks/R.framework/Versions/Current/Resources/library --no-vignettes --timings pepStat_1.20.0.tar.gz
###
##############################################################################
##############################################################################
* using log directory ‘/Users/biocbuild/bbs-3.10-bioc/meat/pepStat.Rcheck’
* using R version 3.6.3 (2020-02-29)
* using platform: x86_64-apple-darwin15.6.0 (64-bit)
* using session charset: UTF-8
* using option ‘--no-vignettes’
* checking for file ‘pepStat/DESCRIPTION’ ... OK
* checking extension type ... Package
* this is package ‘pepStat’ version ‘1.20.0’
* checking package namespace information ... OK
* checking package dependencies ... OK
* checking if this is a source package ... OK
* checking if there is a namespace ... OK
* checking for hidden files and directories ... OK
* checking for portable file names ... OK
* checking for sufficient/correct file permissions ... OK
* checking whether package ‘pepStat’ can be installed ... OK
* checking installed package size ... OK
* checking package directory ... OK
* checking ‘build’ directory ... OK
* checking DESCRIPTION meta-information ... NOTE
Malformed Description field: should contain one or more complete sentences.
* checking top-level files ... OK
* checking for left-over files ... OK
* checking index information ... OK
* checking package subdirectories ... OK
* checking R files for non-ASCII characters ... OK
* checking R files for syntax errors ... OK
* checking whether the package can be loaded ... OK
* checking whether the package can be loaded with stated dependencies ... OK
* checking whether the package can be unloaded cleanly ... OK
* checking whether the namespace can be loaded with stated dependencies ... NOTE
Warning: no function found corresponding to methods exports from ‘pepStat’ for: ‘end’, ‘start’
A namespace must be able to be loaded with just the base namespace
loaded: otherwise if the namespace gets loaded by a saved object, the
session will be unable to start.
Probably some imports need to be declared in the NAMESPACE file.
* checking whether the namespace can be unloaded cleanly ... OK
* checking dependencies in R code ... OK
* checking S3 generic/method consistency ... OK
* checking replacement functions ... OK
* checking foreign function calls ... OK
* checking R code for possible problems ... NOTE
.findFDR : <anonymous>: no visible global function definition for
‘median’
.sanitize_mapping_file2: no visible global function definition for
‘read.csv’
create_db: no visible global function definition for ‘mcols<-’
create_db: no visible global function definition for ‘mcols’
getWeightedEstimator : <anonymous>: no visible global function
definition for ‘lm.fit’
getWeightedEstimator : <anonymous>: no visible global function
definition for ‘lm.wfit’
getWeightedEstimator : <anonymous> : <anonymous>: no visible global
function definition for ‘sd’
plotArrayImage: no visible global function definition for
‘dev.interactive’
plotArrayImage: no visible global function definition for
‘devAskNewPage’
plotArrayImage: no visible global function definition for ‘dev.hold’
plotArrayImage: no visible global function definition for ‘dev.flush’
plotArrayResiduals: no visible global function definition for
‘dev.interactive’
plotArrayResiduals: no visible global function definition for
‘devAskNewPage’
plotArrayResiduals: no visible global function definition for
‘dev.hold’
plotArrayResiduals: no visible global function definition for
‘dev.flush’
coerce,peptideSet-ExpressionSet: no visible global function definition
for ‘annotation’
end,peptideSet: no visible global function definition for ‘end’
position,peptideSet: no visible global function definition for ‘start’
position,peptideSet: no visible global function definition for ‘end’
start,peptideSet: no visible global function definition for ‘start’
write.pSet,peptideSet: no visible global function definition for
‘start’
write.pSet,peptideSet: no visible global function definition for ‘end’
write.pSet,peptideSet: no visible global function definition for
‘write.csv’
Undefined global functions or variables:
annotation dev.flush dev.hold dev.interactive devAskNewPage end
lm.fit lm.wfit mcols mcols<- median read.csv sd start write.csv
Consider adding
importFrom("grDevices", "dev.flush", "dev.hold", "dev.interactive",
"devAskNewPage")
importFrom("stats", "end", "lm.fit", "lm.wfit", "median", "sd",
"start")
importFrom("utils", "read.csv", "write.csv")
to your NAMESPACE file.
* checking Rd files ... OK
* checking Rd metadata ... OK
* checking Rd cross-references ... OK
* checking for missing documentation entries ... OK
* checking for code/documentation mismatches ... OK
* checking Rd \usage sections ... OK
* checking Rd contents ... OK
* checking for unstated dependencies in examples ... OK
* checking sizes of PDF files under ‘inst/doc’ ... OK
* checking installed files from ‘inst/doc’ ... OK
* checking files in ‘vignettes’ ... OK
* checking examples ... OK
Examples with CPU or elapsed time > 5s
user system elapsed
makeCalls 6.765 0.108 6.938
normalizeArray 6.204 0.104 6.343
plotArray 5.956 0.086 6.088
summarizePeptides 5.830 0.046 5.919
restab 5.685 0.056 5.798
slidingMean 5.573 0.052 5.651
* checking for unstated dependencies in vignettes ... OK
* checking package vignettes in ‘inst/doc’ ... OK
* checking running R code from vignettes ... SKIPPED
* checking re-building of vignette outputs ... SKIPPED
* checking PDF version of manual ... OK
* DONE
Status: 3 NOTEs
See
‘/Users/biocbuild/bbs-3.10-bioc/meat/pepStat.Rcheck/00check.log’
for details.
pepStat.Rcheck/00install.out
############################################################################## ############################################################################## ### ### Running command: ### ### /Library/Frameworks/R.framework/Versions/Current/Resources/bin/R CMD INSTALL pepStat ### ############################################################################## ############################################################################## * installing to library ‘/Library/Frameworks/R.framework/Versions/3.6/Resources/library’ * installing *source* package ‘pepStat’ ... ** using staged installation ** R ** inst ** byte-compile and prepare package for lazy loading No methods found in package ‘GenomicRanges’ for request: ‘mcols<-’ when loading ‘pepStat’ No methods found in package ‘GenomicRanges’ for request: ‘mcols’ when loading ‘pepStat’ ** help *** installing help indices ** building package indices ** installing vignettes ‘pepStat.Rnw’ ** testing if installed package can be loaded from temporary location No methods found in package ‘GenomicRanges’ for request: ‘mcols<-’ when loading ‘pepStat’ No methods found in package ‘GenomicRanges’ for request: ‘mcols’ when loading ‘pepStat’ ** testing if installed package can be loaded from final location No methods found in package ‘GenomicRanges’ for request: ‘mcols<-’ when loading ‘pepStat’ No methods found in package ‘GenomicRanges’ for request: ‘mcols’ when loading ‘pepStat’ ** testing if installed package keeps a record of temporary installation path * DONE (pepStat)
pepStat.Rcheck/pepStat-Ex.timings
| name | user | system | elapsed | |
| create_db | 0.163 | 0.002 | 0.169 | |
| makeCalls | 6.765 | 0.108 | 6.938 | |
| makePeptideSet | 2.539 | 0.039 | 2.593 | |
| normalizeArray | 6.204 | 0.104 | 6.343 | |
| plotArray | 5.956 | 0.086 | 6.088 | |
| restab | 5.685 | 0.056 | 5.798 | |
| shinyPepStat | 0.001 | 0.000 | 0.001 | |
| slidingMean | 5.573 | 0.052 | 5.651 | |
| summarizePeptides | 5.830 | 0.046 | 5.919 | |