| Back to Multiple platform build/check report for BioC 3.10 | 
  | 
This page was generated on 2020-04-15 12:20:26 -0400 (Wed, 15 Apr 2020).
| Package 1235/1823 | Hostname | OS / Arch | INSTALL | BUILD | CHECK | BUILD BIN | ||||||
| pcaGoPromoter 1.30.0 Morten Hansen 
  | malbec1 | Linux (Ubuntu 18.04.4 LTS) / x86_64 | OK | OK | OK | |||||||
| tokay1 | Windows Server 2012 R2 Standard / x64 | OK | OK | OK | [ OK ] | |||||||
| merida1 | OS X 10.11.6 El Capitan / x86_64 | OK | OK | OK | OK | 
| Package: pcaGoPromoter | 
| Version: 1.30.0 | 
| Command: rm -rf pcaGoPromoter.buildbin-libdir && mkdir pcaGoPromoter.buildbin-libdir && C:\Users\biocbuild\bbs-3.10-bioc\R\bin\R.exe CMD INSTALL --merge-multiarch --build --library=pcaGoPromoter.buildbin-libdir pcaGoPromoter_1.30.0.tar.gz | 
| StartedAt: 2020-04-15 09:21:20 -0400 (Wed, 15 Apr 2020) | 
| EndedAt: 2020-04-15 09:21:56 -0400 (Wed, 15 Apr 2020) | 
| EllapsedTime: 35.2 seconds | 
| RetCode: 0 | 
| Status: OK | 
| PackageFile: pcaGoPromoter_1.30.0.zip | 
| PackageFileSize: 202 KiB | 
##############################################################################
##############################################################################
###
### Running command:
###
###   rm -rf pcaGoPromoter.buildbin-libdir && mkdir pcaGoPromoter.buildbin-libdir && C:\Users\biocbuild\bbs-3.10-bioc\R\bin\R.exe CMD INSTALL --merge-multiarch --build --library=pcaGoPromoter.buildbin-libdir pcaGoPromoter_1.30.0.tar.gz
###
##############################################################################
##############################################################################
install for i386
* installing *source* package 'pcaGoPromoter' ...
** using staged installation
** R
** inst
** byte-compile and prepare package for lazy loading
** help
*** installing help indices
  converting help for package 'pcaGoPromoter'
    finding HTML links ... done
    GOtree                                  html  
    pca                                     html  
    pcaGoPromoter-package                   html  
    primo                                   html  
    primoData                               html  
** building package indices
** installing vignettes
** testing if installed package can be loaded from temporary location
** testing if installed package can be loaded from final location
** testing if installed package keeps a record of temporary installation path
install for x64
* installing *source* package 'pcaGoPromoter' ...
** testing if installed package can be loaded
* MD5 sums
packaged installation of 'pcaGoPromoter' as pcaGoPromoter_1.30.0.zip
* DONE (pcaGoPromoter)