| Back to Multiple platform build/check report for BioC 3.10 |
|
This page was generated on 2020-04-15 12:29:07 -0400 (Wed, 15 Apr 2020).
| Package 1214/1823 | Hostname | OS / Arch | INSTALL | BUILD | CHECK | BUILD BIN | ||||||
| panelcn.mops 1.8.0 Gundula Povysil
| malbec1 | Linux (Ubuntu 18.04.4 LTS) / x86_64 | OK | OK | OK | |||||||
| tokay1 | Windows Server 2012 R2 Standard / x64 | OK | OK | OK | [ OK ] | |||||||
| merida1 | OS X 10.11.6 El Capitan / x86_64 | OK | OK | OK | OK |
| Package: panelcn.mops |
| Version: 1.8.0 |
| Command: rm -rf panelcn.mops.buildbin-libdir && mkdir panelcn.mops.buildbin-libdir && C:\Users\biocbuild\bbs-3.10-bioc\R\bin\R.exe CMD INSTALL --merge-multiarch --build --library=panelcn.mops.buildbin-libdir panelcn.mops_1.8.0.tar.gz |
| StartedAt: 2020-04-15 09:20:06 -0400 (Wed, 15 Apr 2020) |
| EndedAt: 2020-04-15 09:20:28 -0400 (Wed, 15 Apr 2020) |
| EllapsedTime: 21.6 seconds |
| RetCode: 0 |
| Status: OK |
| PackageFile: panelcn.mops_1.8.0.zip |
| PackageFileSize: 428 KiB |
##############################################################################
##############################################################################
###
### Running command:
###
### rm -rf panelcn.mops.buildbin-libdir && mkdir panelcn.mops.buildbin-libdir && C:\Users\biocbuild\bbs-3.10-bioc\R\bin\R.exe CMD INSTALL --merge-multiarch --build --library=panelcn.mops.buildbin-libdir panelcn.mops_1.8.0.tar.gz
###
##############################################################################
##############################################################################
install for i386
* installing *source* package 'panelcn.mops' ...
** using staged installation
** R
** data
*** moving datasets to lazyload DB
** inst
** byte-compile and prepare package for lazy loading
** help
*** installing help indices
converting help for package 'panelcn.mops'
finding HTML links ... done
control html
countBamListInGRanges html
countWindows html
createResultTable html
getWindows html
panelcn.mops html
plotBoxplot html
read.width html
resultlist html
runPanelcnMops html
splitROIs html
test html
** building package indices
** installing vignettes
** testing if installed package can be loaded from temporary location
** testing if installed package can be loaded from final location
** testing if installed package keeps a record of temporary installation path
install for x64
* installing *source* package 'panelcn.mops' ...
** testing if installed package can be loaded
* MD5 sums
packaged installation of 'panelcn.mops' as panelcn.mops_1.8.0.zip
* DONE (panelcn.mops)