| Back to Multiple platform build/check report for BioC 3.10 |
|
This page was generated on 2020-04-15 12:24:52 -0400 (Wed, 15 Apr 2020).
| Package 1213/1823 | Hostname | OS / Arch | INSTALL | BUILD | CHECK | BUILD BIN | ||||||
| pandaR 1.18.0 Joseph N. Paulson
| malbec1 | Linux (Ubuntu 18.04.4 LTS) / x86_64 | OK | OK | OK | |||||||
| tokay1 | Windows Server 2012 R2 Standard / x64 | [ OK ] | OK | OK | OK | |||||||
| merida1 | OS X 10.11.6 El Capitan / x86_64 | OK | OK | OK | OK |
| Package: pandaR |
| Version: 1.18.0 |
| Command: C:\cygwin\bin\curl.exe -O https://malbec1.bioconductor.org/BBS/3.10/bioc/src/contrib/pandaR_1.18.0.tar.gz && rm -rf pandaR.buildbin-libdir && mkdir pandaR.buildbin-libdir && C:\Users\biocbuild\bbs-3.10-bioc\R\bin\R.exe CMD INSTALL --merge-multiarch --build --library=pandaR.buildbin-libdir pandaR_1.18.0.tar.gz && C:\Users\biocbuild\bbs-3.10-bioc\R\bin\R.exe CMD INSTALL pandaR_1.18.0.zip && rm pandaR_1.18.0.tar.gz pandaR_1.18.0.zip |
| StartedAt: 2020-04-14 18:59:37 -0400 (Tue, 14 Apr 2020) |
| EndedAt: 2020-04-14 19:00:14 -0400 (Tue, 14 Apr 2020) |
| EllapsedTime: 37.2 seconds |
| RetCode: 0 |
| Status: OK |
##############################################################################
##############################################################################
###
### Running command:
###
### C:\cygwin\bin\curl.exe -O https://malbec1.bioconductor.org/BBS/3.10/bioc/src/contrib/pandaR_1.18.0.tar.gz && rm -rf pandaR.buildbin-libdir && mkdir pandaR.buildbin-libdir && C:\Users\biocbuild\bbs-3.10-bioc\R\bin\R.exe CMD INSTALL --merge-multiarch --build --library=pandaR.buildbin-libdir pandaR_1.18.0.tar.gz && C:\Users\biocbuild\bbs-3.10-bioc\R\bin\R.exe CMD INSTALL pandaR_1.18.0.zip && rm pandaR_1.18.0.tar.gz pandaR_1.18.0.zip
###
##############################################################################
##############################################################################
% Total % Received % Xferd Average Speed Time Time Time Current
Dload Upload Total Spent Left Speed
0 0 0 0 0 0 0 0 --:--:-- --:--:-- --:--:-- 0
34 8845k 34 3008k 0 0 13.4M 0 --:--:-- --:--:-- --:--:-- 13.5M
100 8845k 100 8845k 0 0 26.5M 0 --:--:-- --:--:-- --:--:-- 26.7M
install for i386
* installing *source* package 'pandaR' ...
** using staged installation
** R
** data
*** moving datasets to lazyload DB
** inst
** byte-compile and prepare package for lazy loading
** help
*** installing help indices
converting help for package 'pandaR'
finding HTML links ... done
calcDegree html
calcDegreeDifference html
importPandaMatlab html
multiplot html
panda html
pandaR html
pandaResult html
pandaResultPairs html
pandaToyData html
plot.panda html
plotCommunityDetection html
plotGraph html
plotZ html
plotZbyTF html
print.panda html
subnetwork html
summary.panda html
targetedGenes html
testMotif html
topedges html
** building package indices
** installing vignettes
** testing if installed package can be loaded from temporary location
** testing if installed package can be loaded from final location
** testing if installed package keeps a record of temporary installation path
install for x64
* installing *source* package 'pandaR' ...
** testing if installed package can be loaded
* MD5 sums
packaged installation of 'pandaR' as pandaR_1.18.0.zip
* DONE (pandaR)
* installing to library 'C:/Users/biocbuild/bbs-3.10-bioc/R/library'
package 'pandaR' successfully unpacked and MD5 sums checked