| Back to Multiple platform build/check report for BioC 3.10 | 
  | 
This page was generated on 2020-04-15 12:17:53 -0400 (Wed, 15 Apr 2020).
| Package 1167/1823 | Hostname | OS / Arch | INSTALL | BUILD | CHECK | BUILD BIN | ||||||
| occugene 1.46.0 Oliver Will 
  | malbec1 | Linux (Ubuntu 18.04.4 LTS) / x86_64 | OK | OK | OK | |||||||
| tokay1 | Windows Server 2012 R2 Standard / x64 | OK | OK | OK | [ OK ] | |||||||
| merida1 | OS X 10.11.6 El Capitan / x86_64 | OK | OK | OK | OK | 
| Package: occugene | 
| Version: 1.46.0 | 
| Command: rm -rf occugene.buildbin-libdir && mkdir occugene.buildbin-libdir && C:\Users\biocbuild\bbs-3.10-bioc\R\bin\R.exe CMD INSTALL --merge-multiarch --build --library=occugene.buildbin-libdir occugene_1.46.0.tar.gz | 
| StartedAt: 2020-04-15 09:17:24 -0400 (Wed, 15 Apr 2020) | 
| EndedAt: 2020-04-15 09:17:55 -0400 (Wed, 15 Apr 2020) | 
| EllapsedTime: 31.6 seconds | 
| RetCode: 0 | 
| Status: OK | 
| PackageFile: occugene_1.46.0.zip | 
| PackageFileSize: 214 KiB | 
##############################################################################
##############################################################################
###
### Running command:
###
###   rm -rf occugene.buildbin-libdir && mkdir occugene.buildbin-libdir && C:\Users\biocbuild\bbs-3.10-bioc\R\bin\R.exe CMD INSTALL --merge-multiarch --build --library=occugene.buildbin-libdir occugene_1.46.0.tar.gz
###
##############################################################################
##############################################################################
install for i386
* installing *source* package 'occugene' ...
** using staged installation
** R
** data
** inst
** byte-compile and prepare package for lazy loading
** help
*** installing help indices
  converting help for package 'occugene'
    finding HTML links ... done
    binHist                                 html  
    binInsert                               html  
    binInsertHist                           html  
    checkFormat                             html  
    delta0                                  html  
    eMult                                   html  
    etDelta                                 html  
    fCumul                                  html  
    fFit                                    html  
    loadAnnotation                          html  
    loadInsertions                          html  
    occup2Negenes                           html  
    sampleAnnotation                        html  
    sampleInsertions                        html  
    unbiasB0                                html  
    unbiasDelta0                            html  
    varMult                                 html  
** building package indices
** installing vignettes
** testing if installed package can be loaded from temporary location
** testing if installed package can be loaded from final location
** testing if installed package keeps a record of temporary installation path
install for x64
* installing *source* package 'occugene' ...
** testing if installed package can be loaded
* MD5 sums
packaged installation of 'occugene' as occugene_1.46.0.zip
* DONE (occugene)