| Back to Multiple platform build/check report for BioC 3.10 |
|
This page was generated on 2020-04-15 12:22:49 -0400 (Wed, 15 Apr 2020).
| Package 1156/1823 | Hostname | OS / Arch | INSTALL | BUILD | CHECK | BUILD BIN | ||||||
| nondetects 2.16.0 Valeriia Sherina
| malbec1 | Linux (Ubuntu 18.04.4 LTS) / x86_64 | OK | OK | OK | |||||||
| tokay1 | Windows Server 2012 R2 Standard / x64 | OK | OK | OK | [ OK ] | |||||||
| merida1 | OS X 10.11.6 El Capitan / x86_64 | OK | OK | OK | OK |
| Package: nondetects |
| Version: 2.16.0 |
| Command: rm -rf nondetects.buildbin-libdir && mkdir nondetects.buildbin-libdir && C:\Users\biocbuild\bbs-3.10-bioc\R\bin\R.exe CMD INSTALL --merge-multiarch --build --library=nondetects.buildbin-libdir nondetects_2.16.0.tar.gz |
| StartedAt: 2020-04-15 09:16:45 -0400 (Wed, 15 Apr 2020) |
| EndedAt: 2020-04-15 09:17:10 -0400 (Wed, 15 Apr 2020) |
| EllapsedTime: 25.0 seconds |
| RetCode: 0 |
| Status: OK |
| PackageFile: nondetects_2.16.0.zip |
| PackageFileSize: 161.6 KiB |
##############################################################################
##############################################################################
###
### Running command:
###
### rm -rf nondetects.buildbin-libdir && mkdir nondetects.buildbin-libdir && C:\Users\biocbuild\bbs-3.10-bioc\R\bin\R.exe CMD INSTALL --merge-multiarch --build --library=nondetects.buildbin-libdir nondetects_2.16.0.tar.gz
###
##############################################################################
##############################################################################
install for i386
* installing *source* package 'nondetects' ...
** using staged installation
** R
** data
*** moving datasets to lazyload DB
** inst
** byte-compile and prepare package for lazy loading
** help
*** installing help indices
converting help for package 'nondetects'
finding HTML links ... done
nature2008 html
oncogene2013 html
qpcrImpute html
sagmb2011 html
** building package indices
** installing vignettes
** testing if installed package can be loaded from temporary location
** testing if installed package can be loaded from final location
** testing if installed package keeps a record of temporary installation path
install for x64
* installing *source* package 'nondetects' ...
** testing if installed package can be loaded
* MD5 sums
packaged installation of 'nondetects' as nondetects_2.16.0.zip
* DONE (nondetects)