| Back to Multiple platform build/check report for BioC 3.10 |
|
This page was generated on 2020-04-15 12:18:18 -0400 (Wed, 15 Apr 2020).
| Package 979/1823 | Hostname | OS / Arch | INSTALL | BUILD | CHECK | BUILD BIN | ||||||
| mdqc 1.48.0 Gabriela Cohen-Freue
| malbec1 | Linux (Ubuntu 18.04.4 LTS) / x86_64 | OK | OK | OK | |||||||
| tokay1 | Windows Server 2012 R2 Standard / x64 | OK | OK | OK | [ OK ] | |||||||
| merida1 | OS X 10.11.6 El Capitan / x86_64 | OK | OK | OK | OK |
| Package: mdqc |
| Version: 1.48.0 |
| Command: rm -rf mdqc.buildbin-libdir && mkdir mdqc.buildbin-libdir && C:\Users\biocbuild\bbs-3.10-bioc\R\bin\R.exe CMD INSTALL --merge-multiarch --build --library=mdqc.buildbin-libdir mdqc_1.48.0.tar.gz |
| StartedAt: 2020-04-15 09:06:44 -0400 (Wed, 15 Apr 2020) |
| EndedAt: 2020-04-15 09:07:30 -0400 (Wed, 15 Apr 2020) |
| EllapsedTime: 46.7 seconds |
| RetCode: 0 |
| Status: OK |
| PackageFile: mdqc_1.48.0.zip |
| PackageFileSize: 231.4 KiB |
##############################################################################
##############################################################################
###
### Running command:
###
### rm -rf mdqc.buildbin-libdir && mkdir mdqc.buildbin-libdir && C:\Users\biocbuild\bbs-3.10-bioc\R\bin\R.exe CMD INSTALL --merge-multiarch --build --library=mdqc.buildbin-libdir mdqc_1.48.0.tar.gz
###
##############################################################################
##############################################################################
install for i386
* installing *source* package 'mdqc' ...
** using staged installation
** R
** data
** inst
** byte-compile and prepare package for lazy loading
** help
*** installing help indices
converting help for package 'mdqc'
finding HTML links ... done
allQC html
mdqc-package html
mdqc html
plot.mdqc html
prcomp.robust html
** building package indices
** installing vignettes
** testing if installed package can be loaded from temporary location
** testing if installed package can be loaded from final location
** testing if installed package keeps a record of temporary installation path
install for x64
* installing *source* package 'mdqc' ...
** testing if installed package can be loaded
* MD5 sums
packaged installation of 'mdqc' as mdqc_1.48.0.zip
* DONE (mdqc)