| Back to Multiple platform build/check report for BioC 3.10 |
|
This page was generated on 2020-04-15 12:20:24 -0400 (Wed, 15 Apr 2020).
| Package 957/1823 | Hostname | OS / Arch | INSTALL | BUILD | CHECK | BUILD BIN | ||||||
| maskBAD 1.30.0 Michael Dannemann
| malbec1 | Linux (Ubuntu 18.04.4 LTS) / x86_64 | OK | OK | OK | |||||||
| tokay1 | Windows Server 2012 R2 Standard / x64 | OK | OK | OK | [ OK ] | |||||||
| merida1 | OS X 10.11.6 El Capitan / x86_64 | OK | OK | OK | OK |
| Package: maskBAD |
| Version: 1.30.0 |
| Command: rm -rf maskBAD.buildbin-libdir && mkdir maskBAD.buildbin-libdir && C:\Users\biocbuild\bbs-3.10-bioc\R\bin\R.exe CMD INSTALL --merge-multiarch --build --library=maskBAD.buildbin-libdir maskBAD_1.30.0.tar.gz |
| StartedAt: 2020-04-15 09:05:30 -0400 (Wed, 15 Apr 2020) |
| EndedAt: 2020-04-15 09:06:14 -0400 (Wed, 15 Apr 2020) |
| EllapsedTime: 43.7 seconds |
| RetCode: 0 |
| Status: OK |
| PackageFile: maskBAD_1.30.0.zip |
| PackageFileSize: 792.3 KiB |
##############################################################################
##############################################################################
###
### Running command:
###
### rm -rf maskBAD.buildbin-libdir && mkdir maskBAD.buildbin-libdir && C:\Users\biocbuild\bbs-3.10-bioc\R\bin\R.exe CMD INSTALL --merge-multiarch --build --library=maskBAD.buildbin-libdir maskBAD_1.30.0.tar.gz
###
##############################################################################
##############################################################################
install for i386
* installing *source* package 'maskBAD' ...
** using staged installation
** R
** data
** inst
** byte-compile and prepare package for lazy loading
** help
*** installing help indices
converting help for package 'maskBAD'
finding HTML links ... done
exmask html
mask html
finding level-2 HTML links ... done
newAffyBatch html
newCdf html
overlapExprExtMasks html
plotProbe html
prepareMaskedAffybatch html
sequenceMask html
** building package indices
** installing vignettes
** testing if installed package can be loaded from temporary location
** testing if installed package can be loaded from final location
** testing if installed package keeps a record of temporary installation path
install for x64
* installing *source* package 'maskBAD' ...
** testing if installed package can be loaded
* MD5 sums
packaged installation of 'maskBAD' as maskBAD_1.30.0.zip
* DONE (maskBAD)