| Back to Multiple platform build/check report for BioC 3.10 |
|
This page was generated on 2020-04-15 12:36:28 -0400 (Wed, 15 Apr 2020).
| Package 834/1823 | Hostname | OS / Arch | INSTALL | BUILD | CHECK | BUILD BIN | ||||||
| imageHTS 1.36.0 Joseph Barry
| malbec1 | Linux (Ubuntu 18.04.4 LTS) / x86_64 | OK | OK | OK | |||||||
| tokay1 | Windows Server 2012 R2 Standard / x64 | OK | OK | OK | OK | |||||||
| merida1 | OS X 10.11.6 El Capitan / x86_64 | OK | OK | [ OK ] | OK |
| Package: imageHTS |
| Version: 1.36.0 |
| Command: /Library/Frameworks/R.framework/Versions/Current/Resources/bin/R CMD check --install=check:imageHTS.install-out.txt --library=/Library/Frameworks/R.framework/Versions/Current/Resources/library --no-vignettes --timings imageHTS_1.36.0.tar.gz |
| StartedAt: 2020-04-15 03:09:01 -0400 (Wed, 15 Apr 2020) |
| EndedAt: 2020-04-15 03:12:41 -0400 (Wed, 15 Apr 2020) |
| EllapsedTime: 220.0 seconds |
| RetCode: 0 |
| Status: OK |
| CheckDir: imageHTS.Rcheck |
| Warnings: 0 |
##############################################################################
##############################################################################
###
### Running command:
###
### /Library/Frameworks/R.framework/Versions/Current/Resources/bin/R CMD check --install=check:imageHTS.install-out.txt --library=/Library/Frameworks/R.framework/Versions/Current/Resources/library --no-vignettes --timings imageHTS_1.36.0.tar.gz
###
##############################################################################
##############################################################################
* using log directory ‘/Users/biocbuild/bbs-3.10-bioc/meat/imageHTS.Rcheck’
* using R version 3.6.3 (2020-02-29)
* using platform: x86_64-apple-darwin15.6.0 (64-bit)
* using session charset: UTF-8
* using option ‘--no-vignettes’
* checking for file ‘imageHTS/DESCRIPTION’ ... OK
* this is package ‘imageHTS’ version ‘1.36.0’
* checking package namespace information ... OK
* checking package dependencies ... OK
* checking if this is a source package ... OK
* checking if there is a namespace ... OK
* checking for hidden files and directories ... NOTE
Found the following hidden files and directories:
.BBSoptions
These were most likely included in error. See section ‘Package
structure’ in the ‘Writing R Extensions’ manual.
* checking for portable file names ... OK
* checking for sufficient/correct file permissions ... OK
* checking whether package ‘imageHTS’ can be installed ... OK
* checking installed package size ... OK
* checking package directory ... OK
* checking ‘build’ directory ... OK
* checking DESCRIPTION meta-information ... OK
* checking top-level files ... OK
* checking for left-over files ... OK
* checking index information ... OK
* checking package subdirectories ... OK
* checking R files for non-ASCII characters ... OK
* checking R files for syntax errors ... OK
* checking whether the package can be loaded ... OK
* checking whether the package can be loaded with stated dependencies ... OK
* checking whether the package can be unloaded cleanly ... OK
* checking whether the namespace can be loaded with stated dependencies ... OK
* checking whether the namespace can be unloaded cleanly ... OK
* checking dependencies in R code ... OK
* checking S3 generic/method consistency ... OK
* checking replacement functions ... OK
* checking foreign function calls ... OK
* checking R code for possible problems ... OK
* checking Rd files ... OK
* checking Rd metadata ... OK
* checking Rd cross-references ... OK
* checking for missing documentation entries ... OK
* checking for code/documentation mismatches ... OK
* checking Rd \usage sections ... OK
* checking Rd contents ... OK
* checking for unstated dependencies in examples ... OK
* checking sizes of PDF files under ‘inst/doc’ ... OK
* checking files in ‘vignettes’ ... OK
* checking examples ... OK
Examples with CPU or elapsed time > 5s
user system elapsed
extractFeatures 14.575 0.755 15.467
countObjects 6.772 0.305 7.157
segmentWells 5.378 0.297 5.756
fileHTS 2.590 0.027 5.244
* checking for unstated dependencies in vignettes ... OK
* checking package vignettes in ‘inst/doc’ ... OK
* checking running R code from vignettes ... SKIPPED
* checking re-building of vignette outputs ... SKIPPED
* checking PDF version of manual ... OK
* DONE
Status: 1 NOTE
See
‘/Users/biocbuild/bbs-3.10-bioc/meat/imageHTS.Rcheck/00check.log’
for details.
imageHTS.Rcheck/00install.out
############################################################################## ############################################################################## ### ### Running command: ### ### /Library/Frameworks/R.framework/Versions/Current/Resources/bin/R CMD INSTALL imageHTS ### ############################################################################## ############################################################################## * installing to library ‘/Library/Frameworks/R.framework/Versions/3.6/Resources/library’ * installing *source* package ‘imageHTS’ ... ** using staged installation ** R ** inst ** byte-compile and prepare package for lazy loading ** help *** installing help indices ** building package indices ** installing vignettes ** testing if installed package can be loaded from temporary location ** testing if installed package can be loaded from final location ** testing if installed package keeps a record of temporary installation path * DONE (imageHTS)
imageHTS.Rcheck/imageHTS-Ex.timings
| name | user | system | elapsed | |
| collectCellFeatures | 0 | 0 | 0 | |
| countObjects | 6.772 | 0.305 | 7.157 | |
| extractFeatures | 14.575 | 0.755 | 15.467 | |
| fileHTS | 2.590 | 0.027 | 5.244 | |
| getImageConf | 1.300 | 0.022 | 1.337 | |
| getUnames | 3.223 | 0.006 | 3.268 | |
| getWellFeatures | 3.846 | 0.007 | 3.896 | |
| highlightSegmentation | 0.000 | 0.000 | 0.001 | |
| installCellPicker | 1.819 | 0.009 | 1.847 | |
| makeCellHTS | 0.000 | 0.000 | 0.001 | |
| parseDCF | 0.002 | 0.000 | 0.003 | |
| parseImageConf | 1.299 | 0.010 | 1.320 | |
| popCellPicker | 1.165 | 0.003 | 1.179 | |
| prw2uname | 0.005 | 0.001 | 0.006 | |
| readLearnTS | 0 | 0 | 0 | |
| segmentATH | 0.000 | 0.000 | 0.001 | |
| segmentWells | 5.378 | 0.297 | 5.756 | |
| segmentYeastBF | 2.341 | 0.563 | 2.931 | |
| summarizeWells | 0.001 | 0.000 | 0.000 | |
| zprime | 3.216 | 0.028 | 3.276 | |