| Back to Multiple platform build/check report for BioC 3.10 |
|
This page was generated on 2020-04-15 12:30:24 -0400 (Wed, 15 Apr 2020).
| Package 831/1823 | Hostname | OS / Arch | INSTALL | BUILD | CHECK | BUILD BIN | ||||||
| igvR 1.6.1 Paul Shannon
| malbec1 | Linux (Ubuntu 18.04.4 LTS) / x86_64 | OK | OK | WARNINGS | |||||||
| tokay1 | Windows Server 2012 R2 Standard / x64 | OK | OK | WARNINGS | [ OK ] | |||||||
| merida1 | OS X 10.11.6 El Capitan / x86_64 | OK | OK | WARNINGS | OK |
| Package: igvR |
| Version: 1.6.1 |
| Command: rm -rf igvR.buildbin-libdir && mkdir igvR.buildbin-libdir && C:\Users\biocbuild\bbs-3.10-bioc\R\bin\R.exe CMD INSTALL --merge-multiarch --build --library=igvR.buildbin-libdir igvR_1.6.1.tar.gz |
| StartedAt: 2020-04-15 08:58:18 -0400 (Wed, 15 Apr 2020) |
| EndedAt: 2020-04-15 08:59:47 -0400 (Wed, 15 Apr 2020) |
| EllapsedTime: 89.2 seconds |
| RetCode: 0 |
| Status: OK |
| PackageFile: igvR_1.6.1.zip |
| PackageFileSize: 2.899 MiB |
##############################################################################
##############################################################################
###
### Running command:
###
### rm -rf igvR.buildbin-libdir && mkdir igvR.buildbin-libdir && C:\Users\biocbuild\bbs-3.10-bioc\R\bin\R.exe CMD INSTALL --merge-multiarch --build --library=igvR.buildbin-libdir igvR_1.6.1.tar.gz
###
##############################################################################
##############################################################################
install for i386
* installing *source* package 'igvR' ...
** using staged installation
** R
** inst
** byte-compile and prepare package for lazy loading
See system.file("LICENSE", package="MotifDb") for use restrictions.
** help
*** installing help indices
converting help for package 'igvR'
finding HTML links ... done
DataFrameAnnotationTrack-class html
DataFrameQuantitativeTrack-class html
GRangesAnnotationTrack-class html
GRangesQuantitativeTrack-class html
GenomicAlignmentTrack-class html
QuantitativeTrack-class html
Track-class html
UCSCBedAnnotationTrack-class html
UCSCBedGraphQuantitativeTrack-class html
VariantTrack-class html
displayTrack html
enableMotifLogoPopups html
getGenomicRegion html
getSupportedGenomes html
getTrackNames html
igvAnnotationTrack-class html
igvR-class html
ping html
removeTracksByName html
saveToSVG html
setGenome html
setTrackClickFunction html
showGenomicRegion html
trackInfo html
trackSize-DataFrameAnnotationTrack-method
html
trackSize-DataFrameQuantitativeTrack-method
html
trackSize-GRangesAnnotationTrack-method
html
trackSize-GRangesQuantitativeTrack-method
html
trackSize-GenomicAlignmentTrack-method
html
trackSize-UCSCBedAnnotationTrack-method
html
trackSize-UCSCBedGraphQuantitativeTrack-method
html
trackSize-VariantTrack-method html
trackSize html
** building package indices
** installing vignettes
** testing if installed package can be loaded from temporary location
See system.file("LICENSE", package="MotifDb") for use restrictions.
** testing if installed package can be loaded from final location
See system.file("LICENSE", package="MotifDb") for use restrictions.
** testing if installed package keeps a record of temporary installation path
install for x64
* installing *source* package 'igvR' ...
** testing if installed package can be loaded
See system.file("LICENSE", package="MotifDb") for use restrictions.
* MD5 sums
packaged installation of 'igvR' as igvR_1.6.1.zip
* DONE (igvR)