| Back to Multiple platform build/check report for BioC 3.10 |
|
This page was generated on 2020-04-15 12:31:56 -0400 (Wed, 15 Apr 2020).
| Package 807/1823 | Hostname | OS / Arch | INSTALL | BUILD | CHECK | BUILD BIN | ||||||
| hypeR 1.2.0 Anthony Federico
| malbec1 | Linux (Ubuntu 18.04.4 LTS) / x86_64 | OK | OK | OK | |||||||
| tokay1 | Windows Server 2012 R2 Standard / x64 | OK | OK | OK | [ OK ] | |||||||
| merida1 | OS X 10.11.6 El Capitan / x86_64 | OK | OK | OK | OK |
| Package: hypeR |
| Version: 1.2.0 |
| Command: rm -rf hypeR.buildbin-libdir && mkdir hypeR.buildbin-libdir && C:\Users\biocbuild\bbs-3.10-bioc\R\bin\R.exe CMD INSTALL --merge-multiarch --build --library=hypeR.buildbin-libdir hypeR_1.2.0.tar.gz |
| StartedAt: 2020-04-15 08:56:57 -0400 (Wed, 15 Apr 2020) |
| EndedAt: 2020-04-15 08:57:44 -0400 (Wed, 15 Apr 2020) |
| EllapsedTime: 47.1 seconds |
| RetCode: 0 |
| Status: OK |
| PackageFile: hypeR_1.2.0.zip |
| PackageFileSize: 1.754 MiB |
##############################################################################
##############################################################################
###
### Running command:
###
### rm -rf hypeR.buildbin-libdir && mkdir hypeR.buildbin-libdir && C:\Users\biocbuild\bbs-3.10-bioc\R\bin\R.exe CMD INSTALL --merge-multiarch --build --library=hypeR.buildbin-libdir hypeR_1.2.0.tar.gz
###
##############################################################################
##############################################################################
install for i386
* installing *source* package 'hypeR' ...
** using staged installation
** R
** inst
** byte-compile and prepare package for lazy loading
** help
*** installing help indices
converting help for package 'hypeR'
finding HTML links ... done
dot-check_overlap html
dot-dots_plot html
dot-enrichment_map html
dot-find_members html
dot-format_str html
dot-hiearchy_map html
dot-hyper_enrichment html
dot-jaccard_similarity html
dot-ks_enrichment html
dot-kstest html
dot-overlap_similarity html
dot-reverselog_trans html
dot-string_args html
enrichr_available html
enrichr_connect html
enrichr_download html
enrichr_gsets html
ggempty html
ggeplot html
ggvenn html
gsets html
hyp html
hyp_dots html
hyp_emap html
hyp_hmap html
hyp_show html
hyp_to_excel html
hyp_to_rmd html
hyp_to_table html
hypeR html
hyperdb_info html
hyperdb_rgsets html
msigdb_available html
msigdb_check_species html
msigdb_download html
msigdb_gsets html
msigdb_info html
msigdb_species html
msigdb_version html
multihyp html
pvector html
rgsets html
** building package indices
** installing vignettes
** testing if installed package can be loaded from temporary location
** testing if installed package can be loaded from final location
** testing if installed package keeps a record of temporary installation path
install for x64
* installing *source* package 'hypeR' ...
** testing if installed package can be loaded
* MD5 sums
packaged installation of 'hypeR' as hypeR_1.2.0.zip
* DONE (hypeR)