| Back to Multiple platform build/check report for BioC 3.10 | 
  | 
This page was generated on 2020-04-15 12:20:58 -0400 (Wed, 15 Apr 2020).
| Package 800/1823 | Hostname | OS / Arch | INSTALL | BUILD | CHECK | BUILD BIN | ||||||
| hpar 1.28.0 Laurent Gatto 
  | malbec1 | Linux (Ubuntu 18.04.4 LTS) / x86_64 | OK | OK | OK | |||||||
| tokay1 | Windows Server 2012 R2 Standard / x64 | OK | OK | TIMEOUT | [ OK ] | |||||||
| merida1 | OS X 10.11.6 El Capitan / x86_64 | OK | OK | OK | OK | 
| Package: hpar | 
| Version: 1.28.0 | 
| Command: rm -rf hpar.buildbin-libdir && mkdir hpar.buildbin-libdir && C:\Users\biocbuild\bbs-3.10-bioc\R\bin\R.exe CMD INSTALL --merge-multiarch --build --library=hpar.buildbin-libdir hpar_1.28.0.tar.gz | 
| StartedAt: 2020-04-15 08:56:41 -0400 (Wed, 15 Apr 2020) | 
| EndedAt: 2020-04-15 08:57:28 -0400 (Wed, 15 Apr 2020) | 
| EllapsedTime: 46.7 seconds | 
| RetCode: 0 | 
| Status: OK | 
| PackageFile: hpar_1.28.0.zip | 
| PackageFileSize: 7.136 MiB | 
##############################################################################
##############################################################################
###
### Running command:
###
###   rm -rf hpar.buildbin-libdir && mkdir hpar.buildbin-libdir && C:\Users\biocbuild\bbs-3.10-bioc\R\bin\R.exe CMD INSTALL --merge-multiarch --build --library=hpar.buildbin-libdir hpar_1.28.0.tar.gz
###
##############################################################################
##############################################################################
install for i386
* installing *source* package 'hpar' ...
** using staged installation
** R
** data
** inst
** byte-compile and prepare package for lazy loading
** help
*** installing help indices
  converting help for package 'hpar'
    finding HTML links ... done
    getHpa                                  html  
    getHpaDate                              html  
    getHparOptions                          html  
    hpar                                    html  
    setHparOptions                          html  
** building package indices
** installing vignettes
** testing if installed package can be loaded from temporary location
** testing if installed package can be loaded from final location
** testing if installed package keeps a record of temporary installation path
install for x64
* installing *source* package 'hpar' ...
** testing if installed package can be loaded
* MD5 sums
packaged installation of 'hpar' as hpar_1.28.0.zip
* DONE (hpar)