| Back to Multiple platform build/check report for BioC 3.10 | 
  | 
This page was generated on 2020-04-15 12:45:22 -0400 (Wed, 15 Apr 2020).
| Package 776/1823 | Hostname | OS / Arch | INSTALL | BUILD | CHECK | BUILD BIN | ||||||
| heatmaps 1.10.0 Malcolm Perry 
  | malbec1 | Linux (Ubuntu 18.04.4 LTS) / x86_64 | OK | OK | OK | |||||||
| tokay1 | Windows Server 2012 R2 Standard / x64 | OK | OK | OK | OK | |||||||
| merida1 | OS X 10.11.6 El Capitan / x86_64 | OK | OK | OK | [ OK ] | 
| Package: heatmaps | 
| Version: 1.10.0 | 
| Command: rm -rf heatmaps.buildbin-libdir && mkdir heatmaps.buildbin-libdir && /Users/biocbuild/BBS/utils/build-universal.sh heatmaps_1.10.0.tar.gz /Library/Frameworks/R.framework/Versions/Current/Resources/bin/R heatmaps.buildbin-libdir | 
| StartedAt: 2020-04-15 07:42:59 -0400 (Wed, 15 Apr 2020) | 
| EndedAt: 2020-04-15 07:44:03 -0400 (Wed, 15 Apr 2020) | 
| EllapsedTime: 63.7 seconds | 
| RetCode: 0 | 
| Status: OK | 
| PackageFile: heatmaps_1.10.0.tgz | 
| PackageFileSize: 9.004 MiB | 
############################################################################## ############################################################################## ### ### Running command: ### ### rm -rf heatmaps.buildbin-libdir && mkdir heatmaps.buildbin-libdir && /Users/biocbuild/BBS/utils/build-universal.sh heatmaps_1.10.0.tar.gz /Library/Frameworks/R.framework/Versions/Current/Resources/bin/R heatmaps.buildbin-libdir ### ############################################################################## ############################################################################## >>>>>>> >>>>>>> INSTALLATION WITH 'R CMD INSTALL --preclean --no-multiarch --library=heatmaps.buildbin-libdir heatmaps_1.10.0.tar.gz' >>>>>>> * installing *source* package ‘heatmaps’ ... ** using staged installation ** R ** data ** inst ** byte-compile and prepare package for lazy loading Creating a new generic function for ‘scale’ in package ‘heatmaps’ ** help *** installing help indices ** building package indices ** installing vignettes ** testing if installed package can be loaded from temporary location ** testing if installed package can be loaded from final location ** testing if installed package keeps a record of temporary installation path * DONE (heatmaps)