| Back to Multiple platform build/check report for BioC 3.10 |
|
This page was generated on 2020-04-15 12:07:10 -0400 (Wed, 15 Apr 2020).
| Package 769/1823 | Hostname | OS / Arch | INSTALL | BUILD | CHECK | BUILD BIN | ||||||
| hapFabia 1.28.0 Andreas Mitterecker
| malbec1 | Linux (Ubuntu 18.04.4 LTS) / x86_64 | OK | OK | [ OK ] | |||||||
| tokay1 | Windows Server 2012 R2 Standard / x64 | OK | OK | OK | OK | |||||||
| merida1 | OS X 10.11.6 El Capitan / x86_64 | OK | OK | OK | OK |
| Package: hapFabia |
| Version: 1.28.0 |
| Command: /home/biocbuild/bbs-3.10-bioc/R/bin/R CMD check --install=check:hapFabia.install-out.txt --library=/home/biocbuild/bbs-3.10-bioc/R/library --no-vignettes --timings hapFabia_1.28.0.tar.gz |
| StartedAt: 2020-04-15 01:26:49 -0400 (Wed, 15 Apr 2020) |
| EndedAt: 2020-04-15 01:27:44 -0400 (Wed, 15 Apr 2020) |
| EllapsedTime: 55.8 seconds |
| RetCode: 0 |
| Status: OK |
| CheckDir: hapFabia.Rcheck |
| Warnings: 0 |
##############################################################################
##############################################################################
###
### Running command:
###
### /home/biocbuild/bbs-3.10-bioc/R/bin/R CMD check --install=check:hapFabia.install-out.txt --library=/home/biocbuild/bbs-3.10-bioc/R/library --no-vignettes --timings hapFabia_1.28.0.tar.gz
###
##############################################################################
##############################################################################
* using log directory ‘/home/biocbuild/bbs-3.10-bioc/meat/hapFabia.Rcheck’
* using R version 3.6.3 (2020-02-29)
* using platform: x86_64-pc-linux-gnu (64-bit)
* using session charset: UTF-8
* using option ‘--no-vignettes’
* checking for file ‘hapFabia/DESCRIPTION’ ... OK
* this is package ‘hapFabia’ version ‘1.28.0’
* checking package namespace information ... OK
* checking package dependencies ... OK
* checking if this is a source package ... OK
* checking if there is a namespace ... OK
* checking for hidden files and directories ... OK
* checking for portable file names ... OK
* checking for sufficient/correct file permissions ... OK
* checking whether package ‘hapFabia’ can be installed ... OK
* checking installed package size ... OK
* checking package directory ... OK
* checking ‘build’ directory ... OK
* checking DESCRIPTION meta-information ... OK
* checking top-level files ... OK
* checking for left-over files ... OK
* checking index information ... OK
* checking package subdirectories ... OK
* checking R files for non-ASCII characters ... OK
* checking R files for syntax errors ... OK
* checking whether the package can be loaded ... OK
* checking whether the package can be loaded with stated dependencies ... OK
* checking whether the package can be unloaded cleanly ... OK
* checking whether the namespace can be loaded with stated dependencies ... OK
* checking whether the namespace can be unloaded cleanly ... OK
* checking dependencies in R code ... OK
* checking S3 generic/method consistency ... OK
* checking replacement functions ... OK
* checking foreign function calls ... OK
* checking R code for possible problems ... NOTE
File ‘hapFabia/R/zzz.R’:
.onLoad calls:
packageStartupMessage("+--------------------------+ # # ## ##### \n", "|#.....#...#.......#.#....#| # # # # # # \n", "|#.....#...#.......#.#....#| ###### # # # # \n", "|#.....#...#...............| # # ###### ##### \n", "|#.....#...#.......#.#....#| # # # # # \n", "|#.....#...#...............| # # # # # \n", "|#.....#...#.......#.#....#| ####### \n", "|..................#.#....#| # ## ##### # ## \n", "|#.....#...#.......#.#....#| # # # # # # # # \n", "|..................#.#....#| ##### # # ##### # # # \n", "|#.....#...#.......#.#....#| # ###### # # # ###### \n", "|#.....#...#.......#.#....#| # # # # # # # # \n", "+--------------------------+ # # # ##### # # # \n")
packageStartupMessage("Citation: S. Hochreiter,", "\n", "HapFABIA: Identification of very short segments of identity by descent characterized by rare variants in large sequencing data,", "\n", "Nucleic Acids Research, 2013, doi: 10.1093/nar/gkt1013.", "\n", "BibTex: enter 'toBibtex(citation(\"hapFabia\"))'", "\n\n", "Homepage: http://www.bioinf.jku.at/software/hapFabia/index.html", "\n\n", "hapFabia Package Version ", version, "\n")
See section ‘Good practice’ in '?.onAttach'.
* checking Rd files ... OK
* checking Rd metadata ... OK
* checking Rd cross-references ... OK
* checking for missing documentation entries ... OK
* checking for code/documentation mismatches ... OK
* checking Rd \usage sections ... OK
* checking Rd contents ... OK
* checking for unstated dependencies in examples ... OK
* checking contents of ‘data’ directory ... OK
* checking data for non-ASCII characters ... OK
* checking data for ASCII and uncompressed saves ... OK
* checking line endings in shell scripts ... OK
* checking line endings in C/C++/Fortran sources/headers ... OK
* checking line endings in Makefiles ... OK
* checking compilation flags in Makevars ... OK
* checking for GNU extensions in Makefiles ... OK
* checking for portable use of $(BLAS_LIBS) and $(LAPACK_LIBS) ... OK
* checking compiled code ... NOTE
Note: information on .o files is not available
* checking files in ‘vignettes’ ... OK
* checking examples ... OK
Examples with CPU or elapsed time > 5s
user system elapsed
iterateIntervals 5.836 0.072 5.914
* checking for unstated dependencies in vignettes ... OK
* checking package vignettes in ‘inst/doc’ ... OK
* checking running R code from vignettes ... SKIPPED
* checking re-building of vignette outputs ... SKIPPED
* checking PDF version of manual ... OK
* DONE
Status: 2 NOTEs
See
‘/home/biocbuild/bbs-3.10-bioc/meat/hapFabia.Rcheck/00check.log’
for details.
hapFabia.Rcheck/00install.out
##############################################################################
##############################################################################
###
### Running command:
###
### /home/biocbuild/bbs-3.10-bioc/R/bin/R CMD INSTALL hapFabia
###
##############################################################################
##############################################################################
* installing to library ‘/home/biocbuild/bbs-3.10-bioc/R/library’
* installing *source* package ‘hapFabia’ ...
** using staged installation
** libs
gcc -I"/home/biocbuild/bbs-3.10-bioc/R/include" -DNDEBUG -I/usr/local/include -fpic -g -O2 -Wall -c interfaceR.c -o interfaceR.o
gcc -I"/home/biocbuild/bbs-3.10-bioc/R/include" -DNDEBUG -I/usr/local/include -fpic -g -O2 -Wall -c split_sparse_matrixB.c -o split_sparse_matrixB.o
gcc -I"/home/biocbuild/bbs-3.10-bioc/R/include" -DNDEBUG -I/usr/local/include -fpic -g -O2 -Wall -c vcftoFABIAB.c -o vcftoFABIAB.o
vcftoFABIAB.c: In function ‘getdelimS’:
vcftoFABIAB.c:50:7: warning: this ‘if’ clause does not guard... [-Wmisleading-indentation]
if (ch == EOF)
^~
vcftoFABIAB.c:54:10: note: ...this statement, but the latter is misleadingly indented as if it were guarded by the ‘if’
while (idx > *linebufsz - 2) {
^~~~~
gcc -shared -L/home/biocbuild/bbs-3.10-bioc/R/lib -L/usr/local/lib -o hapFabia.so interfaceR.o split_sparse_matrixB.o vcftoFABIAB.o -L/home/biocbuild/bbs-3.10-bioc/R/lib -lR
gcc -c ./commandLine/split_sparse_matrix.c -o ./commandLine/split_sparse_matrix.o -g -O2 -Wall
gcc -c split_sparse_matrixB.c -o ./commandLine/split_sparse_matrixB.o -g -O2 -Wall
gcc ./commandLine/split_sparse_matrix.o ./commandLine/split_sparse_matrixB.o -o ./commandLine/split_sparse_matrix
mv ./commandLine/split_sparse_matrix ../inst/commandLine/
gcc -c ./commandLine/vcftoFABIA.c -o ./commandLine/vcftoFABIA.o -g -O2 -Wall
gcc -c vcftoFABIAB.c -o ./commandLine/vcftoFABIAB.o -g -O2 -Wall
vcftoFABIAB.c: In function ‘getdelimS’:
vcftoFABIAB.c:50:7: warning: this ‘if’ clause does not guard... [-Wmisleading-indentation]
if (ch == EOF)
^~
vcftoFABIAB.c:54:10: note: ...this statement, but the latter is misleadingly indented as if it were guarded by the ‘if’
while (idx > *linebufsz - 2) {
^~~~~
gcc ./commandLine/vcftoFABIA.o ./commandLine/vcftoFABIAB.o -o ./commandLine/vcftoFABIA
mv ./commandLine/vcftoFABIA ../inst/commandLine/
installing to /home/biocbuild/bbs-3.10-bioc/R/library/00LOCK-hapFabia/00new/hapFabia/libs
** R
** data
** inst
** byte-compile and prepare package for lazy loading
** help
*** installing help indices
** building package indices
** installing vignettes
** testing if installed package can be loaded from temporary location
** checking absolute paths in shared objects and dynamic libraries
** testing if installed package can be loaded from final location
** testing if installed package keeps a record of temporary installation path
* DONE (hapFabia)
hapFabia.Rcheck/hapFabia-Ex.timings
| name | user | system | elapsed | |
| IBDsegment-class | 0.460 | 0.008 | 0.468 | |
| IBDsegmentList-class | 0.012 | 0.004 | 0.017 | |
| IBDsegmentList2excel | 0.012 | 0.000 | 0.013 | |
| analyzeIBDsegments | 0.000 | 0.000 | 0.001 | |
| compareIBDsegmentLists | 0.028 | 0.000 | 0.028 | |
| extractIBDsegments | 0.056 | 0.004 | 0.059 | |
| findDenseRegions | 0.000 | 0.004 | 0.004 | |
| hapFabia | 1.944 | 0.072 | 2.021 | |
| hapFabiaVersion | 0.000 | 0.000 | 0.001 | |
| identifyDuplicates | 0.000 | 0.000 | 0.001 | |
| iterateIntervals | 5.836 | 0.072 | 5.914 | |
| makePipelineFile | 0.000 | 0.004 | 0.003 | |
| matrixPlot | 0.004 | 0.000 | 0.003 | |
| mergeIBDsegmentLists | 0.012 | 0.000 | 0.011 | |
| plotIBDsegment | 0.280 | 0.032 | 0.315 | |
| setAnnotation | 0.148 | 0.008 | 0.153 | |
| setStatistics | 0.032 | 0.004 | 0.036 | |
| sim | 0 | 0 | 0 | |
| simulateIBDsegments | 0 | 0 | 0 | |
| simulateIBDsegmentsFabia | 1.196 | 0.028 | 1.226 | |
| split_sparse_matrix | 0 | 0 | 0 | |
| toolsFactorizationClass | 0.796 | 0.008 | 0.911 | |
| vcftoFABIA | 0.004 | 0.000 | 0.001 | |