| Back to Multiple platform build/check report for BioC 3.10 |
|
This page was generated on 2020-04-15 12:20:08 -0400 (Wed, 15 Apr 2020).
| Package 743/1823 | Hostname | OS / Arch | INSTALL | BUILD | CHECK | BUILD BIN | ||||||
| graphite 1.32.0 Gabriele Sales
| malbec1 | Linux (Ubuntu 18.04.4 LTS) / x86_64 | OK | OK | OK | |||||||
| tokay1 | Windows Server 2012 R2 Standard / x64 | OK | OK | OK | [ OK ] | |||||||
| merida1 | OS X 10.11.6 El Capitan / x86_64 | OK | OK | OK | OK |
| Package: graphite |
| Version: 1.32.0 |
| Command: rm -rf graphite.buildbin-libdir && mkdir graphite.buildbin-libdir && C:\Users\biocbuild\bbs-3.10-bioc\R\bin\R.exe CMD INSTALL --merge-multiarch --build --library=graphite.buildbin-libdir graphite_1.32.0.tar.gz |
| StartedAt: 2020-04-15 08:53:35 -0400 (Wed, 15 Apr 2020) |
| EndedAt: 2020-04-15 08:54:13 -0400 (Wed, 15 Apr 2020) |
| EllapsedTime: 37.8 seconds |
| RetCode: 0 |
| Status: OK |
| PackageFile: graphite_1.32.0.zip |
| PackageFileSize: 839.6 KiB |
##############################################################################
##############################################################################
###
### Running command:
###
### rm -rf graphite.buildbin-libdir && mkdir graphite.buildbin-libdir && C:\Users\biocbuild\bbs-3.10-bioc\R\bin\R.exe CMD INSTALL --merge-multiarch --build --library=graphite.buildbin-libdir graphite_1.32.0.tar.gz
###
##############################################################################
##############################################################################
install for i386
* installing *source* package 'graphite' ...
** using staged installation
** R
** inst
** byte-compile and prepare package for lazy loading
** help
*** installing help indices
converting help for package 'graphite'
finding HTML links ... done
Pathway-class html
PathwayList-class html
Pathways-class html
as.list.PathwayList html
buildPathway html
convertIdentifiers html
cytoscapePlot html
finding level-2 HTML links ... done
pathwayDatabases html
pathwayGraph html
pathways html
prepareSPIA html
runClipper html
runSPIA html
runTopologyGSA html
** building package indices
** installing vignettes
** testing if installed package can be loaded from temporary location
** testing if installed package can be loaded from final location
** testing if installed package keeps a record of temporary installation path
install for x64
* installing *source* package 'graphite' ...
** testing if installed package can be loaded
* MD5 sums
packaged installation of 'graphite' as graphite_1.32.0.zip
* DONE (graphite)