| Back to Multiple platform build/check report for BioC 3.10 |
|
This page was generated on 2020-04-15 12:13:32 -0400 (Wed, 15 Apr 2020).
| Package 697/1823 | Hostname | OS / Arch | INSTALL | BUILD | CHECK | BUILD BIN | ||||||
| gep2pep 1.6.0 Francesco Napolitano
| malbec1 | Linux (Ubuntu 18.04.4 LTS) / x86_64 | OK | OK | [ OK ] | |||||||
| tokay1 | Windows Server 2012 R2 Standard / x64 | OK | OK | OK | OK | |||||||
| merida1 | OS X 10.11.6 El Capitan / x86_64 | OK | OK | OK | OK |
| Package: gep2pep |
| Version: 1.6.0 |
| Command: /home/biocbuild/bbs-3.10-bioc/R/bin/R CMD check --install=check:gep2pep.install-out.txt --library=/home/biocbuild/bbs-3.10-bioc/R/library --no-vignettes --timings gep2pep_1.6.0.tar.gz |
| StartedAt: 2020-04-15 05:19:02 -0400 (Wed, 15 Apr 2020) |
| EndedAt: 2020-04-15 05:21:06 -0400 (Wed, 15 Apr 2020) |
| EllapsedTime: 123.3 seconds |
| RetCode: 0 |
| Status: OK |
| CheckDir: gep2pep.Rcheck |
| Warnings: 0 |
############################################################################## ############################################################################## ### ### Running command: ### ### /home/biocbuild/bbs-3.10-bioc/R/bin/R CMD check --install=check:gep2pep.install-out.txt --library=/home/biocbuild/bbs-3.10-bioc/R/library --no-vignettes --timings gep2pep_1.6.0.tar.gz ### ############################################################################## ############################################################################## * using log directory ‘/home/biocbuild/bbs-3.10-bioc/meat/gep2pep.Rcheck’ * using R version 3.6.3 (2020-02-29) * using platform: x86_64-pc-linux-gnu (64-bit) * using session charset: UTF-8 * using option ‘--no-vignettes’ * checking for file ‘gep2pep/DESCRIPTION’ ... OK * checking extension type ... Package * this is package ‘gep2pep’ version ‘1.6.0’ * package encoding: UTF-8 * checking package namespace information ... OK * checking package dependencies ... OK * checking if this is a source package ... OK * checking if there is a namespace ... OK * checking for hidden files and directories ... OK * checking for portable file names ... OK * checking for sufficient/correct file permissions ... OK * checking whether package ‘gep2pep’ can be installed ... OK * checking installed package size ... OK * checking package directory ... OK * checking ‘build’ directory ... OK * checking DESCRIPTION meta-information ... OK * checking top-level files ... OK * checking for left-over files ... OK * checking index information ... OK * checking package subdirectories ... OK * checking R files for non-ASCII characters ... OK * checking R files for syntax errors ... OK * checking whether the package can be loaded ... OK * checking whether the package can be loaded with stated dependencies ... OK * checking whether the package can be unloaded cleanly ... OK * checking whether the namespace can be loaded with stated dependencies ... OK * checking whether the namespace can be unloaded cleanly ... OK * checking dependencies in R code ... OK * checking S3 generic/method consistency ... OK * checking replacement functions ... OK * checking foreign function calls ... OK * checking R code for possible problems ... OK * checking Rd files ... OK * checking Rd metadata ... OK * checking Rd cross-references ... OK * checking for missing documentation entries ... OK * checking for code/documentation mismatches ... OK * checking Rd \usage sections ... OK * checking Rd contents ... OK * checking for unstated dependencies in examples ... OK * checking files in ‘vignettes’ ... OK * checking examples ... OK * checking for unstated dependencies in ‘tests’ ... OK * checking tests ... Running ‘testthat.R’ OK * checking for unstated dependencies in vignettes ... OK * checking package vignettes in ‘inst/doc’ ... OK * checking running R code from vignettes ... SKIPPED * checking re-building of vignette outputs ... SKIPPED * checking PDF version of manual ... OK * DONE Status: OK
gep2pep.Rcheck/00install.out
############################################################################## ############################################################################## ### ### Running command: ### ### /home/biocbuild/bbs-3.10-bioc/R/bin/R CMD INSTALL gep2pep ### ############################################################################## ############################################################################## * installing to library ‘/home/biocbuild/bbs-3.10-bioc/R/library’ * installing *source* package ‘gep2pep’ ... ** using staged installation ** R ** inst ** byte-compile and prepare package for lazy loading ** help *** installing help indices ** building package indices ** installing vignettes ** testing if installed package can be loaded from temporary location ** testing if installed package can be loaded from final location ** testing if installed package keeps a record of temporary installation path * DONE (gep2pep)
gep2pep.Rcheck/tests/testthat.Rout
R version 3.6.3 (2020-02-29) -- "Holding the Windsock"
Copyright (C) 2020 The R Foundation for Statistical Computing
Platform: x86_64-pc-linux-gnu (64-bit)
R is free software and comes with ABSOLUTELY NO WARRANTY.
You are welcome to redistribute it under certain conditions.
Type 'license()' or 'licence()' for distribution details.
R is a collaborative project with many contributors.
Type 'contributors()' for more information and
'citation()' on how to cite R or R packages in publications.
Type 'demo()' for some demos, 'help()' for on-line help, or
'help.start()' for an HTML browser interface to help.
Type 'q()' to quit R.
> library(testthat)
> library(gep2pep)
>
> test_check("gep2pep")
Chunk 1 of 2, 519 bytes (current file size: 4.3 Kb)
Chunk 2 of 2, 665 bytes (current file size: 12.3 Kb)
Chunk 1 of 2, 538 bytes (current file size: 4.3 Kb)
Chunk 2 of 2, 691 bytes (current file size: 12.3 Kb)
Chunk 1 of 2, 549 bytes (current file size: 4.3 Kb)
Chunk 2 of 2, 685 bytes (current file size: 12.3 Kb)
══ testthat results ═══════════════════════════════════════════════════════════
[ OK: 154 | SKIPPED: 1 | WARNINGS: 0 | FAILED: 0 ]
>
> proc.time()
user system elapsed
15.300 0.500 16.989
gep2pep.Rcheck/gep2pep-Ex.timings
| name | user | system | elapsed | |
| CategorizedCollection | 0.196 | 0.024 | 0.220 | |
| CondSEA | 1.048 | 0.060 | 1.137 | |
| PathSEA | 0.664 | 0.012 | 0.685 | |
| addSingleGeneSets | 0.592 | 0.004 | 0.601 | |
| as.CategorizedCollection | 0.368 | 0.012 | 0.381 | |
| buildPEPs | 0.668 | 0.016 | 0.687 | |
| checkRepository | 0.276 | 0.004 | 0.279 | |
| clearCache | 0.656 | 0.024 | 0.680 | |
| createMergedRepository | 0.764 | 0.052 | 0.821 | |
| createRepository | 0.128 | 0.008 | 0.133 | |
| exportSEA | 0.644 | 0.024 | 0.671 | |
| gene2pathways | 0.232 | 0.008 | 0.241 | |
| getCollections | 0.220 | 0.008 | 0.228 | |
| getDetails | 0.728 | 0.032 | 0.761 | |
| getResults | 0.728 | 0.024 | 0.756 | |
| importFromRawMode | 0.752 | 0.016 | 0.773 | |
| importMSigDB.xml | 0.208 | 0.008 | 0.219 | |
| loadCollection | 0.240 | 0.004 | 0.302 | |
| loadESmatrix | 0.552 | 0.024 | 0.638 | |
| loadPVmatrix | 0.512 | 0.016 | 0.537 | |
| loadSampleGEP | 0.004 | 0.000 | 0.001 | |
| loadSamplePWS | 0.000 | 0.000 | 0.001 | |
| makeCollectionIDs | 0.056 | 0.000 | 0.055 | |
| openRepository | 0.176 | 0.012 | 0.186 | |
| setId2setName | 0.052 | 0.000 | 0.055 | |