| Back to Multiple platform build/check report for BioC 3.10 |
|
This page was generated on 2020-04-15 12:23:54 -0400 (Wed, 15 Apr 2020).
| Package 582/1823 | Hostname | OS / Arch | INSTALL | BUILD | CHECK | BUILD BIN | ||||||
| flowCHIC 1.20.0 Author: Joachim Schumann
| malbec1 | Linux (Ubuntu 18.04.4 LTS) / x86_64 | OK | OK | OK | |||||||
| tokay1 | Windows Server 2012 R2 Standard / x64 | [ OK ] | OK | OK | OK | |||||||
| merida1 | OS X 10.11.6 El Capitan / x86_64 | OK | OK | OK | OK |
| Package: flowCHIC |
| Version: 1.20.0 |
| Command: C:\cygwin\bin\curl.exe -O https://malbec1.bioconductor.org/BBS/3.10/bioc/src/contrib/flowCHIC_1.20.0.tar.gz && rm -rf flowCHIC.buildbin-libdir && mkdir flowCHIC.buildbin-libdir && C:\Users\biocbuild\bbs-3.10-bioc\R\bin\R.exe CMD INSTALL --merge-multiarch --build --library=flowCHIC.buildbin-libdir flowCHIC_1.20.0.tar.gz && C:\Users\biocbuild\bbs-3.10-bioc\R\bin\R.exe CMD INSTALL flowCHIC_1.20.0.zip && rm flowCHIC_1.20.0.tar.gz flowCHIC_1.20.0.zip |
| StartedAt: 2020-04-14 19:00:25 -0400 (Tue, 14 Apr 2020) |
| EndedAt: 2020-04-14 19:01:40 -0400 (Tue, 14 Apr 2020) |
| EllapsedTime: 75.2 seconds |
| RetCode: 0 |
| Status: OK |
##############################################################################
##############################################################################
###
### Running command:
###
### C:\cygwin\bin\curl.exe -O https://malbec1.bioconductor.org/BBS/3.10/bioc/src/contrib/flowCHIC_1.20.0.tar.gz && rm -rf flowCHIC.buildbin-libdir && mkdir flowCHIC.buildbin-libdir && C:\Users\biocbuild\bbs-3.10-bioc\R\bin\R.exe CMD INSTALL --merge-multiarch --build --library=flowCHIC.buildbin-libdir flowCHIC_1.20.0.tar.gz && C:\Users\biocbuild\bbs-3.10-bioc\R\bin\R.exe CMD INSTALL flowCHIC_1.20.0.zip && rm flowCHIC_1.20.0.tar.gz flowCHIC_1.20.0.zip
###
##############################################################################
##############################################################################
% Total % Received % Xferd Average Speed Time Time Time Current
Dload Upload Total Spent Left Speed
0 0 0 0 0 0 0 0 --:--:-- --:--:-- --:--:-- 0
100 3125k 100 3125k 0 0 40.6M 0 --:--:-- --:--:-- --:--:-- 42.9M
install for i386
* installing *source* package 'flowCHIC' ...
** using staged installation
** R
** data
** inst
** byte-compile and prepare package for lazy loading
** help
*** installing help indices
converting help for package 'flowCHIC'
finding HTML links ... done
Results_overlaps html
Results_overlaps_incol html
Results_overlaps_mix html
Results_xor html
Results_xor_incol html
Results_xor_mix html
abiotic_incol html
calculate_overlaps_xor html
fcs_to_img html
flowCHIC_package html
img_sub html
plot_nmds html
** building package indices
** installing vignettes
** testing if installed package can be loaded from temporary location
** testing if installed package can be loaded from final location
** testing if installed package keeps a record of temporary installation path
install for x64
* installing *source* package 'flowCHIC' ...
** testing if installed package can be loaded
* MD5 sums
packaged installation of 'flowCHIC' as flowCHIC_1.20.0.zip
* DONE (flowCHIC)
* installing to library 'C:/Users/biocbuild/bbs-3.10-bioc/R/library'
package 'flowCHIC' successfully unpacked and MD5 sums checked