| Back to Multiple platform build/check report for BioC 3.10 | 
  | 
This page was generated on 2020-04-15 12:17:21 -0400 (Wed, 15 Apr 2020).
| Package 566/1823 | Hostname | OS / Arch | INSTALL | BUILD | CHECK | BUILD BIN | ||||||
| fdrame 1.58.0 Effi Kenigsberg 
  | malbec1 | Linux (Ubuntu 18.04.4 LTS) / x86_64 | OK | OK | OK | |||||||
| tokay1 | Windows Server 2012 R2 Standard / x64 | [ OK ] | OK | OK | OK | |||||||
| merida1 | OS X 10.11.6 El Capitan / x86_64 | OK | OK | OK | OK | 
| Package: fdrame | 
| Version: 1.58.0 | 
| Command: C:\cygwin\bin\curl.exe -O https://malbec1.bioconductor.org/BBS/3.10/bioc/src/contrib/fdrame_1.58.0.tar.gz && rm -rf fdrame.buildbin-libdir && mkdir fdrame.buildbin-libdir && C:\Users\biocbuild\bbs-3.10-bioc\R\bin\R.exe CMD INSTALL --merge-multiarch --build --library=fdrame.buildbin-libdir fdrame_1.58.0.tar.gz && C:\Users\biocbuild\bbs-3.10-bioc\R\bin\R.exe CMD INSTALL fdrame_1.58.0.zip && rm fdrame_1.58.0.tar.gz fdrame_1.58.0.zip | 
| StartedAt: 2020-04-14 18:31:37 -0400 (Tue, 14 Apr 2020) | 
| EndedAt: 2020-04-14 18:32:52 -0400 (Tue, 14 Apr 2020) | 
| EllapsedTime: 75.0 seconds | 
| RetCode: 0 | 
| Status: OK | 
##############################################################################
##############################################################################
###
### Running command:
###
###   C:\cygwin\bin\curl.exe -O https://malbec1.bioconductor.org/BBS/3.10/bioc/src/contrib/fdrame_1.58.0.tar.gz && rm -rf fdrame.buildbin-libdir && mkdir fdrame.buildbin-libdir && C:\Users\biocbuild\bbs-3.10-bioc\R\bin\R.exe CMD INSTALL --merge-multiarch --build --library=fdrame.buildbin-libdir fdrame_1.58.0.tar.gz && C:\Users\biocbuild\bbs-3.10-bioc\R\bin\R.exe CMD INSTALL fdrame_1.58.0.zip && rm fdrame_1.58.0.tar.gz fdrame_1.58.0.zip
###
##############################################################################
##############################################################################
  % Total    % Received % Xferd  Average Speed   Time    Time     Time  Current
                                 Dload  Upload   Total   Spent    Left  Speed
  0     0    0     0    0     0      0      0 --:--:-- --:--:-- --:--:--     0
100  780k  100  780k    0     0  2843k      0 --:--:-- --:--:-- --:--:-- 2880k
install for i386
* installing *source* package 'fdrame' ...
** using staged installation
** libs
C:/Rtools/mingw_32/bin/gcc  -I"C:/Users/BIOCBU~1/BBS-3~1.10-/R/include" -DNDEBUG     -I"C:/extsoft/include"     -O3 -Wall  -std=gnu99 -mtune=core2 -c fdr.c -o fdr.o
C:/Rtools/mingw_32/bin/gcc -shared -s -static-libgcc -o fdrame.dll tmp.def fdr.o -LC:/extsoft/lib/i386 -LC:/extsoft/lib -LC:/Users/BIOCBU~1/BBS-3~1.10-/R/bin/i386 -lR
installing to C:/Users/biocbuild/bbs-3.10-bioc/meat/fdrame.buildbin-libdir/00LOCK-fdrame/00new/fdrame/libs/i386
** R
** data
** byte-compile and prepare package for lazy loading
** help
*** installing help indices
  converting help for package 'fdrame'
    finding HTML links ... done
    design                                  html  
    exp.arr                                 html  
    fdr-internal                            html  
    fdrgui                                  html  
    fdrma                                   html  
** building package indices
** installing vignettes
** testing if installed package can be loaded from temporary location
** testing if installed package can be loaded from final location
** testing if installed package keeps a record of temporary installation path
install for x64
* installing *source* package 'fdrame' ...
** libs
C:/Rtools/mingw_64/bin/gcc  -I"C:/Users/BIOCBU~1/BBS-3~1.10-/R/include" -DNDEBUG     -I"C:/extsoft/include"     -O2 -Wall  -std=gnu99 -mtune=core2 -c fdr.c -o fdr.o
C:/Rtools/mingw_64/bin/gcc -shared -s -static-libgcc -o fdrame.dll tmp.def fdr.o -LC:/extsoft/lib/x64 -LC:/extsoft/lib -LC:/Users/BIOCBU~1/BBS-3~1.10-/R/bin/x64 -lR
installing to C:/Users/biocbuild/bbs-3.10-bioc/meat/fdrame.buildbin-libdir/fdrame/libs/x64
** testing if installed package can be loaded
* MD5 sums
packaged installation of 'fdrame' as fdrame_1.58.0.zip
* DONE (fdrame)
* installing to library 'C:/Users/biocbuild/bbs-3.10-bioc/R/library'
package 'fdrame' successfully unpacked and MD5 sums checked