| Back to Multiple platform build/check report for BioC 3.10 |
|
This page was generated on 2020-04-15 12:33:36 -0400 (Wed, 15 Apr 2020).
| Package 564/1823 | Hostname | OS / Arch | INSTALL | BUILD | CHECK | BUILD BIN | ||||||
| fcoex 1.0.0 Tiago Lubiana
| malbec1 | Linux (Ubuntu 18.04.4 LTS) / x86_64 | OK | OK | WARNINGS | |||||||
| tokay1 | Windows Server 2012 R2 Standard / x64 | OK | OK | WARNINGS | [ OK ] | |||||||
| merida1 | OS X 10.11.6 El Capitan / x86_64 | OK | OK | WARNINGS | OK |
| Package: fcoex |
| Version: 1.0.0 |
| Command: rm -rf fcoex.buildbin-libdir && mkdir fcoex.buildbin-libdir && C:\Users\biocbuild\bbs-3.10-bioc\R\bin\R.exe CMD INSTALL --merge-multiarch --build --library=fcoex.buildbin-libdir fcoex_1.0.0.tar.gz |
| StartedAt: 2020-04-15 08:42:13 -0400 (Wed, 15 Apr 2020) |
| EndedAt: 2020-04-15 08:43:03 -0400 (Wed, 15 Apr 2020) |
| EllapsedTime: 50.2 seconds |
| RetCode: 0 |
| Status: OK |
| PackageFile: fcoex_1.0.0.zip |
| PackageFileSize: 2.121 MiB |
##############################################################################
##############################################################################
###
### Running command:
###
### rm -rf fcoex.buildbin-libdir && mkdir fcoex.buildbin-libdir && C:\Users\biocbuild\bbs-3.10-bioc\R\bin\R.exe CMD INSTALL --merge-multiarch --build --library=fcoex.buildbin-libdir fcoex_1.0.0.tar.gz
###
##############################################################################
##############################################################################
install for i386
* installing *source* package 'fcoex' ...
** using staged installation
** R
** data
*** moving datasets to lazyload DB
Registered S3 method overwritten by 'enrichplot':
method from
fortify.enrichResult DOSE
** inst
** byte-compile and prepare package for lazy loading
** help
*** installing help indices
converting help for package 'fcoex'
finding HTML links ... done
discretize html
dot-get_correlates html
dot-plot_one_interaction html
fc html
fcoex-class html
find_cbf_modules html
get_nets html
idents html
mini_pbmc3k html
mod_colors html
mod_gene_num html
mod_names html
mod_ora html
module_genes html
new_fcoex html
nmodules html
ora_data html
plot_interactions html
plot_ora html
plot_ora_single html
recluster html
save_plots html
show-fcoex-method html
show_net html
show_ora html
** building package indices
** installing vignettes
** testing if installed package can be loaded from temporary location
** testing if installed package can be loaded from final location
** testing if installed package keeps a record of temporary installation path
install for x64
* installing *source* package 'fcoex' ...
** testing if installed package can be loaded
* MD5 sums
packaged installation of 'fcoex' as fcoex_1.0.0.zip
* DONE (fcoex)