| Back to Multiple platform build/check report for BioC 3.10 |
|
This page was generated on 2020-04-15 12:19:19 -0400 (Wed, 15 Apr 2020).
| Package 554/1823 | Hostname | OS / Arch | INSTALL | BUILD | CHECK | BUILD BIN | ||||||
| fabia 2.32.0 Andreas Mitterecker
| malbec1 | Linux (Ubuntu 18.04.4 LTS) / x86_64 | OK | OK | OK | |||||||
| tokay1 | Windows Server 2012 R2 Standard / x64 | OK | OK | OK | [ OK ] | |||||||
| merida1 | OS X 10.11.6 El Capitan / x86_64 | OK | OK | OK | OK |
| Package: fabia |
| Version: 2.32.0 |
| Command: rm -rf fabia.buildbin-libdir && mkdir fabia.buildbin-libdir && C:\Users\biocbuild\bbs-3.10-bioc\R\bin\R.exe CMD INSTALL --merge-multiarch --build --library=fabia.buildbin-libdir fabia_2.32.0.tar.gz |
| StartedAt: 2020-04-15 08:41:38 -0400 (Wed, 15 Apr 2020) |
| EndedAt: 2020-04-15 08:41:59 -0400 (Wed, 15 Apr 2020) |
| EllapsedTime: 20.8 seconds |
| RetCode: 0 |
| Status: OK |
| PackageFile: fabia_2.32.0.zip |
| PackageFileSize: 1.102 MiB |
##############################################################################
##############################################################################
###
### Running command:
###
### rm -rf fabia.buildbin-libdir && mkdir fabia.buildbin-libdir && C:\Users\biocbuild\bbs-3.10-bioc\R\bin\R.exe CMD INSTALL --merge-multiarch --build --library=fabia.buildbin-libdir fabia_2.32.0.tar.gz
###
##############################################################################
##############################################################################
install for i386
* installing *source* package 'fabia' ...
** using staged installation
** libs
running 'src/Makefile.win' ...
rm -f fabia.o fabia.dll *.a *.o *.so *.dll
C:/Rtools/mingw_32/bin/gcc -c fabiac.c -o fabia.o -I"C:/Users/BIOCBU~1/BBS-3~1.10-/R/include" -Wall -O3
C:/Rtools/mingw_32/bin/gcc -shared -s -static-libgcc fabia.o -L"C:/Users/BIOCBU~1/BBS-3~1.10-/R/bin/i386" -lR -o fabia.dll
rm -f fabia.o *.a *.o *.so
installing to C:/Users/biocbuild/bbs-3.10-bioc/meat/fabia.buildbin-libdir/00LOCK-fabia/00new/fabia/libs/i386
** R
** demo
** inst
** byte-compile and prepare package for lazy loading
** help
*** installing help indices
converting help for package 'fabia'
finding HTML links ... done
Factorization-class html
estimateMode html
extractBic html
extractPlot html
fabi html
fabia html
fabiaDemo html
fabiaVersion html
fabiap html
fabias html
fabiasp html
makeFabiaData html
makeFabiaDataBlocks html
makeFabiaDataBlocksPos html
makeFabiaDataPos html
matrixImagePlot html
mfsc html
nmfdiv html
nmfeu html
nmfsc html
plotBicluster html
projFunc html
projFuncPos html
readSamplesSpfabia html
readSpfabiaResult html
samplesPerFeature html
spfabia html
** building package indices
** installing vignettes
** testing if installed package can be loaded from temporary location
** testing if installed package can be loaded from final location
** testing if installed package keeps a record of temporary installation path
install for x64
* installing *source* package 'fabia' ...
** libs
running 'src/Makefile.win' ...
rm -f fabia.o fabia.dll *.a *.o *.so *.dll
C:/Rtools/mingw_64/bin/gcc -c fabiac.c -o fabia.o -I"C:/Users/BIOCBU~1/BBS-3~1.10-/R/include" -Wall -O3
C:/Rtools/mingw_64/bin/gcc -shared -s -static-libgcc fabia.o -L"C:/Users/BIOCBU~1/BBS-3~1.10-/R/bin/x64" -lR -o fabia.dll
rm -f fabia.o *.a *.o *.so
installing to C:/Users/biocbuild/bbs-3.10-bioc/meat/fabia.buildbin-libdir/fabia/libs/x64
** testing if installed package can be loaded
* MD5 sums
packaged installation of 'fabia' as fabia_2.32.0.zip
* DONE (fabia)