| Back to Multiple platform build/check report for BioC 3.10 |
|
This page was generated on 2020-04-15 12:32:07 -0400 (Wed, 15 Apr 2020).
| Package 543/1823 | Hostname | OS / Arch | INSTALL | BUILD | CHECK | BUILD BIN | ||||||
| evaluomeR 1.2.41 José Antonio Bernabé-Díaz
| malbec1 | Linux (Ubuntu 18.04.4 LTS) / x86_64 | OK | OK | OK | |||||||
| tokay1 | Windows Server 2012 R2 Standard / x64 | OK | OK | OK | [ OK ] | |||||||
| merida1 | OS X 10.11.6 El Capitan / x86_64 | OK | OK | OK | OK |
| Package: evaluomeR |
| Version: 1.2.41 |
| Command: rm -rf evaluomeR.buildbin-libdir && mkdir evaluomeR.buildbin-libdir && C:\Users\biocbuild\bbs-3.10-bioc\R\bin\R.exe CMD INSTALL --merge-multiarch --build --library=evaluomeR.buildbin-libdir evaluomeR_1.2.41.tar.gz |
| StartedAt: 2020-04-15 08:40:39 -0400 (Wed, 15 Apr 2020) |
| EndedAt: 2020-04-15 08:42:39 -0400 (Wed, 15 Apr 2020) |
| EllapsedTime: 120.8 seconds |
| RetCode: 0 |
| Status: OK |
| PackageFile: evaluomeR_1.2.41.zip |
| PackageFileSize: 660.5 KiB |
##############################################################################
##############################################################################
###
### Running command:
###
### rm -rf evaluomeR.buildbin-libdir && mkdir evaluomeR.buildbin-libdir && C:\Users\biocbuild\bbs-3.10-bioc\R\bin\R.exe CMD INSTALL --merge-multiarch --build --library=evaluomeR.buildbin-libdir evaluomeR_1.2.41.tar.gz
###
##############################################################################
##############################################################################
install for i386
* installing *source* package 'evaluomeR' ...
** using staged installation
** R
** data
*** moving datasets to lazyload DB
** inst
** byte-compile and prepare package for lazy loading
** help
*** installing help indices
converting help for package 'evaluomeR'
finding HTML links ... done
bioMetrics html
getDataQualityRange html
finding level-2 HTML links ... done
getOptimalKValue html
metricsCorrelations html
ontMetrics html
plotMetricsBoxplot html
plotMetricsCluster html
plotMetricsClusterComparison html
plotMetricsMinMax html
plotMetricsViolin html
quality html
qualityRange html
qualitySet html
rnaMetrics html
stability html
stabilityRange html
stabilitySet html
** building package indices
** installing vignettes
** testing if installed package can be loaded from temporary location
** testing if installed package can be loaded from final location
** testing if installed package keeps a record of temporary installation path
install for x64
* installing *source* package 'evaluomeR' ...
** testing if installed package can be loaded
* MD5 sums
packaged installation of 'evaluomeR' as evaluomeR_1.2.41.zip
* DONE (evaluomeR)